Workbook
Name A: '[1]Likučiai naujų'!$Q$641:$T$644
Name A: '[1]Likučiai naujų'!$Q$641:$T$644
Name A: '[1]Likučiai naujų'!$Q$641:$T$644
Name A: '[1]Likučiai naujų'!$Q$641:$T$644
Name A: '[2]Likučiai naujų'!$Q$641:$T$644
Name DMatrica: #REF!
Name DMatrica: #REF!
Name DMatrica: #REF!
Name DMatrica: #REF!
Name DMatrica: #REF!
Name DMatrica_T: #REF!
Name DMatrica_T: #REF!
Name KOG: '[1]Likučiai naujų'!$Q$646:$T$649
Name KOG: '[1]Likučiai naujų'!$Q$646:$T$649
Name KOG: '[1]Likučiai naujų'!$Q$646:$T$649
Name KOG: '[1]Likučiai naujų'!$Q$646:$T$649
Name KOG: '[2]Likučiai naujų'!$Q$646:$T$649
Name MA10e: '[1]Perėjimų matricos'!$AH$35:$AK$38
Name MA10e: '[1]Perėjimų matricos'!$AH$35:$AK$38
Name MA10e: '[1]Perėjimų matricos'!$AH$35:$AK$38
Name MA10e: '[1]Perėjimų matricos'!$AH$35:$AK$38
Name MA10e: '[2]Perėjimų matricos'!$AH$35:$AK$38
Name MA1e: '[1]Perėjimų matricos'!$AH$15:$AK$18
Name MA1e: '[1]Perėjimų matricos'!$AH$15:$AK$18
Name MA1e: '[1]Perėjimų matricos'!$AH$15:$AK$18
Name MA1e: '[1]Perėjimų matricos'!$AH$15:$AK$18
Name MA1e: '[2]Perėjimų matricos'!$AH$15:$AK$18
Name MA3e: '[1]Perėjimų matricos'!$AH$25:$AK$28
Name MA3e: '[1]Perėjimų matricos'!$AH$25:$AK$28
Name MA3e: '[1]Perėjimų matricos'!$AH$25:$AK$28
Name MA3e: '[1]Perėjimų matricos'!$AH$25:$AK$28
Name MA3e: '[2]Perėjimų matricos'!$AH$25:$AK$28
Name Matrica1: '[3]RG perėjimų matrica'!$D$22:$H$26
Name Matrica1: '[4]RG perėjimų matrica'!$D$22:$H$26
Name Matrica2: '[3]RG perėjimų matrica'!$D$11:$H$15
Name Matrica2: '[4]RG perėjimų matrica'!$D$11:$H$15
Name Matrica3: '[3]RG perėjimų matrica'!$D$48:$H$52
Name Matrica3: '[4]RG perėjimų matrica'!$D$48:$H$52
Name Matrica4: '[3]RG perėjimų matrica'!$D$37:$H$41
Name Matrica4: '[4]RG perėjimų matrica'!$D$37:$H$41
Name MEKG: '[1]Perėjimų matricos'!$Y$77:$AB$80
Name MEKG: '[1]Perėjimų matricos'!$Y$77:$AB$80
Name MEKG: '[1]Perėjimų matricos'!$Y$77:$AB$80
Name MEKG: '[1]Perėjimų matricos'!$Y$77:$AB$80
Name MEKG: '[2]Perėjimų matricos'!$Y$77:$AB$80
Name MEKG2: '[1]Perėjimų matricos'!$AH$77:$AK$80
Name MEKG2: '[1]Perėjimų matricos'!$AH$77:$AK$80
Name MEKG2: '[1]Perėjimų matricos'!$AH$77:$AK$80
Name MEKG2: '[1]Perėjimų matricos'!$AH$77:$AK$80
Name MEKG2: '[2]Perėjimų matricos'!$AH$77:$AK$80
Name MI10e: '[1]Perėjimų matricos'!$AH$65:$AK$68
Name MI10e: '[1]Perėjimų matricos'!$AH$65:$AK$68
Name MI10e: '[1]Perėjimų matricos'!$AH$65:$AK$68
Name MI10e: '[1]Perėjimų matricos'!$AH$65:$AK$68
Name MI10e: '[2]Perėjimų matricos'!$AH$65:$AK$68
Name MI1e: '[1]Perėjimų matricos'!$AH$45:$AK$48
Name MI1e: '[1]Perėjimų matricos'!$AH$45:$AK$48
Name MI1e: '[1]Perėjimų matricos'!$AH$45:$AK$48
Name MI1e: '[1]Perėjimų matricos'!$AH$45:$AK$48
Name MI1e: '[2]Perėjimų matricos'!$AH$45:$AK$48

Sheet Skaičiuoklė
B1: PRELIMINARI PERSPEKTYVA PASKOLŲ PALŪKANŲ SKAIČIUOKLĖ
B3: Pildyti tik žalius laukelius
B5: Kiento rizika
B6: Kliento RG | F6: =IF(Skaičiuoklė!E6>18,"Nefinansuotinos rizikos klientas (max 18 RG)","")
B7: Paskolos suma, EUR | F7: =IF(E7>1000000,"Maksimali vienam klientui išduodama Perspektyva paskolų suma negali viršyti 1 mln. EUR","")
B8: Paskolos terminas (mėn.)
B9: Paskolos grafikas | E9: Lygiomis dalimis | F9: =IF(E9=Validations!J3,IF(B56<>"","Nesuvestas paskolos grafikas. Nepamirškite suvesti grafiko!",""),"")
B10: Įmokų atidėjimas (mėn.) | F10: =IF(E10>E8-1,"Atidėjimas turi būti trumpesnis už paskolos terminą","") -> Atidėjimas turi būti trumpesnis už paskolos terminą
B11: Privataus finansavimo suma, EUR (tik tinkamos finansuoti išlaidos) | F11: =IF(E11<(E7+E11)*0.2,"Kliento nuosava dalis projekte per maža!","")
B12: Paskolos tipas
B13: =+IF(E12="Tik MTEP","","Jau panaudota De minimis suma, EUR") -> Jau panaudota De minimis suma, EUR
B14: Kliento veiklos vykdymo trukmė metais (suprantama Grupės mastu)
B15: Įmonės dydžio statusas | F15: =IF(AND(E12=Validations!K3,Skaičiuoklė!E15=Validations!L4),"Didelių įmonių MTEPI nefinansuojamas!","")
B17: Įkeičiamos NT rinkos vertė
B18: Įkeičiamos kito ilgalaikio turto vertė
B19: RG atitinkanti PD
B20: LGD
B21: Viso laikotarpio ECL, EUR
B22: Viso laikotarpio ECL, % | F22: =IF(E22>20%,"DĖMESIO! Šio sandorio ECL (be palūkanų) viršija 20%","")
B23: Metinė garantijos kaina ECL daliai padengti
B24: Metinė marža su administraciniais kaštais | O24: Nustatytas 0,53% adminas
B25: EURIBOR 6 mėn.
B26: Apskaičiuota metinė palūkanų norma
B27: Užstato lygis
B28: Metinė marža pagal Komunikatą
B29: 12 mėn. IBOR* | F29: =IF(E29=0,"Suveskite IBOR","") -> Suveskite IBOR
B30: Minimali metinė kaina pagal Komunikatą | E30: =E28+E29 -> 0
B31: Perskaičiuota marža, kad atitiktų Komunikatą (papildomai turi būti priidėtas EURIBOR) | E31: =MAX(E24,E30-E25) -> 0 | O31: Vietoje IBOR pritaikomas EURIBOR, bet į maržą perkeliamas skirtumas tarp IBOR ir EURIBOR, kad kintamos palūkanos nebūtų mažesnės nei pagal Komunikatą
B32: Marža (papildomai turi būti priidėtas IBOR) | E32: =IF(J32<>"","Trūksta informacijos",MAX(E24,E28)) -> Trūksta informacijos | J32: =IF(OR(E5="",E7="",E8="",E10="",E11="",E12="",AND(E12="MTEP ir inovacijos",E13=""),E14="",E15="",E17="",E18="",E29="",E37="",E38="",E40=""),"Suvesta ne visa būtina informacija!","") -> Suvesta ne visa būtina informacija!
B33: *12 mėn. IBOR turi būti perskaičiuotas sprendimo priėmimo dieną:
B34: https://competition-policy.ec.europa.eu/state-aid/legislation/reference-discount-rates-and-recovery-interest-rates/reference-and-discount-rates_en
B36: Maksimali galima valstybės pagalba, EUR | E36: =IF(E12=Validations!K2,IF(E15=Validations!L2,Validations!M2,IF(E15=Validations!L3,Validations!M3,Validations!M4))*(E7+E11),300000-E13) -> 300000
B37: Pageidaujamos lengvatinės palūkanos (proc.)
B38: Terminas, kiek bus taikomos lengvatinės palūkanos (mėn.) | F38: =IF(OR(AND(E14<=3,E38>60),AND(E14>3,E38>36)),"Per ilgas lengvatinių paskolų laikotarpis!","")
B39: Valstybės pagalba už palūkanas lengvatiniu paskolos laikotarpiu, Eur | E39: =(E7)*(E38/12)*(E30-E37) -> 0 | F39: =IF(E39>E36,"Viršytas valstybės pagalbos likutis! Prašome didinti pageidaujamas palūkanas arba keisti paskolos sąlygas","")
B40: Pageidaujamos palūkanos likusiu paskolos laikotarpiu, (proc., ne mažiau kaip 2% ir ne daugiau kaip 7,03%+IBOR) | F40: =IF(OR(E40<0.02,E40>0.0703+E29),"Siūlomos palūkanos neatitinka aprašo sąlygų!","") -> Siūlomos palūkanos neatitinka aprašo sąlygų!
B41: Valstybės pagalba už sumažintas palūkanas likusiu paskolos laikotarpiu, Eur | E41: =E7*(E8-E38)/12*(E30-E40) -> 0 | F41: =IF(E41>E36-E39,"Viršytas valstybės pagalbos likutis! Prašome didinti pageidaujamas palūkanas arba keisti paskolos sąlygas","")
B42: Valstybės pagalbos likutis, Eur | E42: =E36-E39-E41 -> 300000
B44: Užpildykite preliminarias likvidacines užstato vertes
B45: Užstato tipas | C45: Užstato likvidacinė vertė*, Eur (atsižvelkite į įkeitimo eiliškumą!) | D45: Naudingo tarnavimo laikotarpis (metais)** | E45: Įkeitimo atidėjimo terminas (mėn.)
...

Sheet Reglamentavimas
B1: Reglamentai, komunikatai | C1: Ištraukos | D1: Esmė
A2: 1 | B2: 2013 m. gruodžio 18 d. KOMISIJOS REGLAMENTAS (ES) Nr. 1407/2013 dėl Sutarties dėl Europos Sąjungos veikimo 107 ir 108 straipsnių taikymo de minimis pagalbai | C2: pagalba, kurią sudaro paskolos, įskaitant paskolų forma teikiamą de minimis rizikos finansų pagalbą, turėtų būti laikoma skaidria de minimis pagalba, jei bendrasis subsidijos ekvivalentas buvo apskaičiuotas remiantis pagalbos suteikimo metu rinkoje galiojusių palūkanų normomis. Siekiant supaprastinti nedidelių trumpalaikių paskolų vertinimą, šiame reglamente reikėtų numatyti aiškią taisyklę, kurią būtų lengva taikyti ir kuria būtų atsižvelgiama tiek į paskolos sumą, tiek į jos trukmę. Remiantis Komisijos patirtimi, galima laikyti, kad paskolų, kurios užtikrintos ne mažiau kaip 50 % paskolos vertės užstatu ir kurios neviršija 1 000 000 EUR ir penkerių metų trukmės arba 500 000 EUR ir dešimties metų trukmės, bendrasis subsidijos ekvivalentas neviršija de minimis viršutinės ribos. | D2: Orientacinė palūkanų norma arba Paskola iki 1 mln. EUR ir 50% paskolos užtikrinta užstatu + didelės įmonės reitingas min B -> PE=PS*PT/300
C3: pagalbos gavėjui netaikoma kolektyvinė nemokumo procedūra ir jis neatitinka nacionalinės teisės kriterijų, pagal kuriuos kreditorių prašymu jam būtų taikoma kolektyvinė nemokumo procedūra. Kai pagalbos gavėjas yra didelė įmonė, jos padėtis turi prilygti bent jau B kredito reitingui
C4: pagalba, kurią sudaro kapitalo injekcijos, neturėtų būti laikoma skaidria de minimis pagalba, išskyrus tuos atvejus, kai visa valstybės injekcijos suma neviršija de minimis viršutinės ribos. Pagalba, kurią sudaro rizikos finansų priemonės, kurios gali būti investicijos į nuosavą kapitalą ar į kvazinuosavą kapitalą, kaip nurodyta Rizikos finansų gairėse (12), neturėtų būti laikoma skaidria de minimis pagalba, išskyrus tuos atvejus, kai pagal susijusią priemonę numatomas kapitalas neviršija de minimis viršutinės ribos; | D4: kaip subsidija
C5: pagalba, kurią sudaro garantijos, įskaitant garantijų forma teikiamą de minimis rizikos finansų pagalbą, turėtų būti laikoma skaidria, jei bendrasis subsidijos ekvivalentas buvo apskaičiuotas remiantis saugumo garanto priemokomis, nustatytomis Komisijos pranešime, skirtame atitinkamoms įmonėms. Siekiant supaprastinti trumpalaikių garantijų, kuriomis užtikrinama iki 80 % sąlyginai nedidelės paskolos sumos, vertinimą, šiame reglamente reikėtų numatyti aiškią taisyklę, kurią lengva taikyti ir kuria atsižvelgiama tiek į pagrindinės paskolos sumą, tiek į garantijos trukmę. Ši taisyklė neturėtų būti taikoma tokioms pagrindinių sandorių, kurie nėra paskolos, garantijoms kaip kapitalo sandorių garantijos. Kai garantija neviršija 80 % pagrindinės paskolos sumos, garantuojama suma neviršija 1 500 000 EUR ir garantijos trukmė neviršija penkerių metų, galima laikyti, kad garantijos bendrasis subsidijos ekvivalentas neviršija de minimis viršutinės ribos. Tas pats galioja, kai garantija neviršija 80 % pagrindinės paskolos sumos, garantuojama suma neviršija 750 000 EUR ir garantijos trukmė neviršija dešimties metų. Be to, valstybės narės garantijų bendrojo subsidijos ekvivalento apskaičiavimui gali naudoti metodiką, apie kurią Komisijai buvo pranešta pagal kitą tuo metu taikytą Komisijos reglamentą valstybės pagalbos srityje ir kurį Komisija patvirtino kaip atitinkantį Garantijų pranešimą arba kitą vėliau priimtą pranešimą, su sąlyga, jei patvirtintoje metodikoje aiškiai apibrėžta garantijų rūšis ir pagrindinių sandorių rūšis atsižvelgiant į šio reglamento taikymą. | D5: Saugaus uosto priemokos arba Garantija iki 1,5 mln. EUR ir intensyvumas <=80% ir didelės įmonės reitingas min B -> PE=PS*PT/450
C6: kai de minimis pagalbos schema įgyvendinama per finansinius tarpininkus, reikėtų užtikrinti, kad pastarieji negautų jokios valstybės pagalbos. Tai gali būti padaryta, pavyzdžiui, reikalaujant, kad finansiniai tarpininkai, kurie naudojasi valstybės garantija, mokėtų rinkos principus atitinkančią priemoką arba pranašumus visiškai perduotų galutiniams gavėjams, arba laikantis de minimis viršutinės ribos ir kitų šio reglamento sąlygų ir tarpininkų lygmeniu; | D6: portfelinės?
C7: Jeigu pagalba išmokama dalimis, jos vertė yra diskontuojama suteikimo metu. Palūkanų norma, naudojama diskontuojant, yra pagalbos suteikimo metu galiojusi diskonto norma.
A8: 2 | B8: Komisijos pranešimas dėl EB sutarties 87 ir 88 straipsnių taikymo garantijomis suteikiamai valstybės pagalbai (2008/C 155/02) | C8: Taikant išimtį, jeigu paskolos gavėjas yra MVĮ, Komisija, nukrypdama nuo 3.2 punkto d papunkčio nuostatų, gali pritarti paprastesniam pagalbos elemento egzistavimo paskolos garantijoje vertinimui; tokiu atveju ir įvykdžius visas kitas sąlygas, nustatytas 3.2 punkto a, b ir c papunkčiuose, valstybės garantija nebūtų laikoma valstybės pagalba, jeigu valstybės faktiškai garantuotai sumai taikoma toliau lentelėje nurodyta minimali metinė priemoka („saugaus uosto“ priemoka) atsižvelgiant į paskolos gavėjo reitingą | D8: Safe harbour taikymo apimtis
C9: 3.2 (a) Paskolos gavėjas neturi finansinių sunkumų | D9: Finansiniai sunkumai
C10: 3.2 (b) Suteikiant garantiją, galima tinkamai įvertinti jos dydį. Tai reiškia, kad garantija turi būti susieta su konkrečiu finansiniu sandoriu, kuriame nustatyta didžiausia suma ir terminas. | D10: Aiškumas
C11: 3.2 (c) Garantija užtikrinama ne daugiau kaip 80 % negrąžintos paskolos arba kito finansinio įsipareigojimo; šis apribojimas netaikomas garantijoms, dengiančioms skolos vertybinius popierius (7). | D11: Intensyvumas
C12: Siekiant užtikrinti, kad paskolos davėjas iš tikrųjų prisiimtų dalį rizikos, būtina tinkamai atsižvelgti į šiuos du aspektus: — kai paskolos arba finansinio įsipareigojimo dydis ilgainiui mažėja, pavyzdžiui, dėl to, kad prasideda paskolos grąžinimas, garantuojama suma turi proporcingai sumažėti taip, kad bet kuriuo metu garantija užtikrintų ne daugiau kaip 80 % negrąžintos paskolos arba finansinio įsipareigojimo. — paskolos davėjas ir garantas turi patirti proporcingus ir vienodus nuostolius. Grynosios pajamos (t. y. pajamos, iš kurių išskaičiuotos reikalavimų apdorojimo išlaidos), gaunamos susigrąžinant skolą, kuriai paskolos gavėjas suteikė užstatą, turi proporcingai sumažinti paskolos davėjo ir garanto patiriamus nuostolius. Pirmojo nuostolio garantijos, kai nuostoliai pirmiausia priskiriami garantui, o tik paskui – paskolos davėjui, gali būti laikomos susijusiomis su pagalba. | D12: Rizikos pasidalijimo principai
C13: Nustatant vienkartinę išankstinę garantijos priemoką, paskolos garantija nelaikoma valstybės pagalba, jeigu ji yra bent jau lygi dabartinei būsimų garantijų priemokų vertei, kaip nurodyta pirmiau, ir jeigu taikoma diskonto norma atitinka orientacinę normą. Orientacinė norma taip pat turi būti taikoma kaip diskonto norma dabartinėms vertėms apskaičiuoti. Tuo tikslu bus taikoma bazinė norma, padidinta 100 bazinių punktų dydžio fiksuota marža | D13: Upfront guarantee
C14: Siekiant tinkamai ir laipsniškai įvertinti pačių įmonių schemos finansavimo aspektą, priemokų dydžio pakankamumą reikia tikrinti mažiausiai kartą per metus, remiantis faktiniu schemos nuostolių dydžiu per ekonomiškai pagrįstą laikotarpį, atitinkamai patikslinant priemokas, jeigu yra rizika, kad įmonės pačios gali nebefinansuoti schemos. Šis tikslinimas gali būti taikomas visoms suteiktoms ir būsimoms garantijoms arba tik pastarosioms | D14: Validavimas
C15: Kad būtų laikomos atitinkančiomis rinkos kainas, nustatytos priemokos turi padengti įprastinę riziką, susijusią su garantijos suteikimu, schemos administravimo išlaidas ir metinę pakankamo kapitalo grąžą, net jeigu toks kapitalas nesukaupiamas arba sukaupiamas tik iš dalies. Administracinės išlaidos turėtų apimti bent jau specialaus pradinio rizikos vertinimo, taip pat rizikos stebėjimo ir rizikos valdymo išlaidas, susijusias su garantijos skyrimu ir administravimu | D15: Administraciniai kaštai
C16: Komisijos nuomone, toks kapitalas turi sudaryti 8 % nesumokėtų garantijų. Įmonėms, kurių reitingas yra AAA/AA- (Aaa/Aa3), suteiktoms garantijoms, kapitalo grąžos suma gali būti sumažinta iki 2 % nesumokėtų garantijų Įmonėms, kurių reitingas yra A+/A- (A1/A3), suteiktoms garantijoms, kapitalo grąžos suma gali būti sumažinta iki 4 % nesumokėtų garantijų. Komisija mano, kad įprastinė rizikos priemoka už akcinį kapitalą yra lygi ne mažiau kaip 400 bazinių punktų, ir tokia rizikos priemoka turėtų būti įtraukta į pagalbos gavėjams nustatytas garantijų priemokas. | D16: Kapitalo kaštai, kai lėšos nėra skiriamos schemai
C17: Įprastinę šio kapitalo grąžą sudaro rizikos priemoka, kuri gali būti padidinta su rizika nesusijusia palūkanų norma. Jeigu, kaip būdinga daugeliui valstybės garantijų schemų, schemai kapitalo neskiriama ir dėl to valstybė nesumoka jokio piniginio įnašo, į su rizika nesusijusią palūkanų normą atsižvelgti nereikia. Kitais atvejais, jeigu valstybė iš tikrųjų suteikia pagrindinį kapitalą, ji dėl to turi patirti skolinimosi išlaidas, o schemai šie grynieji pinigai duoda naudos, nes ji gali juos investuoti. Todėl valstybei už suteiktą sumą taip pat turi būti sumokėta su rizika nesusijusi palūkanų norma. Be to, šis mokestis turėtų būti išskaičiuotas iš schemos finansinių pajamų ir nebūtinai turėtų įtakos garantijų priemokoms (18). Komisijos nuomone, dešimties metų valstybės obligacijos pelną galima naudoti kaip tinkamą su rizika nesusijusios palūkanų normos pakaitalą, laikomą normalia kapitalo grąža. | D17: Kapitalo kaštai, kai lėšos yra skiriamos schemai
C18: „Saugaus uosto“ priemokų naudojimas garantijų schemose MVĮ Atsižvelgiant į supaprastinimo pasiūlymus, susijusius su individualiomis garantijomis, MVĮ skirtos garantijų schemos iš esmės taip pat gali būti laikomos finansuojamomis pačių įmonių ir nelaikomos valstybės pagalba, jeigu taikomos 3.3 punkte remiantis įmonių reitingais nustatytos mažiausios „saugaus uosto“ priemokos (19). Kitos sąlygos, nustatytos 3.4 punkto a, b ir c papunkčiuose ir 3.4 punkto g papunktyje, vis dar turi būti įvykdytos bei 3.4 punkto d, e ir f papunkčiuose nustatytos sąlygos laikomos įvykdytomis, naudojant minimalias metines priemokas, nustatytas 3.3 punkte. | D18: Jeigu taikai minimalias priemokas, tai papildomai sumuoti administravimo ir kapitalo kaštų nebūtina
A19: 3 | B19: Komisijos komunikatas dėl orientacinių ir diskonto normų nustatymo metodo pakeitimo | C19: Apskaičiavimo pagrindas: 1 metų IBOR. Kai šių normų nėra, taikoma 3 mėnesių pinigų rinkos palūkanų norma | D19: IBOR
C20: Priklausomai nuo susijusios įmonės reitingo ir siūlomo įkeisto turto, taikytinos Komunikate nurodytos maržos.
C21: Šiame pranešime laikoma, kad „aukštas“ įkeisto turto lygis lemia LGD, kuris yra mažesnis arba lygus 30 %, „normalaus“ įkeisto turto lygio atveju LGD siekia 31–59 %, „žemo“ įkeisto turto lygio atveju LGD siekia 60 % ar daugiau. | D21: LGD
C22: Diskonto norma. Grynosios dabartinės vertės apskaičiavimas Orientacinė norma taip pat turi būti taikoma kaip diskonto norma dabartinėms vertėms apskaičiuoti. Tuo tikslu bus taikoma bazinė norma, padidinta 100 bazinių punktų dydžio fiksuota marža. | D22: Diskonto norma: 1 metų IBOR + 1%

Sheet Garantijos kaina
B1: Paskolų ir lizingo IG kainodara | I1: Obligacijų IG kainodara
E2: metinė priemoka
D3: bazė | E3: apyvartine | F3: investicine | I3: bazė | J3: metinė priemoka
C4: iki 3 m. | D4: 0.01 | E4: 0.004 | F4: 0.002 | I4: 0.01 | J4: 0.009
B5: Apyvartinė | C5: >3m. | D5: 0.01 | E5: 0.004 | F5: 0.002
B6: Investicinė | C6: >3m. | D6: 0.015 | E6: 0.004 | F6: 0.002
B7: Didelė | C7: <3 m. | D7: 0.02 | E7: 0.004 | F7: 0.002

Sheet Reitingai
A1: RG | B1: PD vidurkis | C1: PD apatinis rėžis | D1: PD viršutinis rėžis | E1: Moody's reitingas | F1: Senos RG | G1: Komunikatas | H1: Minimali marža pagal komunikatą*, kai užstato lygis | K1: Safe harbour for guarantees**
H2: AUKŠTAS | I2: VIDUTINIS | J2: ŽEMAS | K2: minimal annual price
A3: 2 | B3: 8e-05 | C3: 0 | D3: 0.00015 | E3: Aaa | F3: I | G3: Stiprus (AAA-A) | H3: 0.006 | I3: 0.0075 | J3: 0.01 | K3: 0.004
A4: 3 | B4: 0.00019 | C4: 0.00015 | D4: 0.00022 | E4: Aa1 - Aa3 | H4: 0.006 | I4: 0.0075 | J4: 0.01 | K4: 0.004
A5: 4 | B5: 0.00028 | C5: 0.00022 | D5: 0.00033 | E5: A1 | H5: 0.006 | I5: 0.0075 | J5: 0.01 | K5: 0.0055
A6: 5 | B6: 0.00042 | C6: 0.00033 | D6: 0.0005 | E6: A2 | H6: 0.006 | I6: 0.0075 | J6: 0.01 | K6: 0.0055
A7: 6 | B7: 0.00065 | C7: 0.0005 | D7: 0.0008 | E7: A3 | H7: 0.006 | I7: 0.0075 | J7: 0.01 | K7: 0.0055
A8: 7 | B8: 0.00095 | C8: 0.0008 | D8: 0.0011 | E8: Baa1 | F8: II | G8: Geras (BBB) | H8: 0.0075 | I8: 0.01 | J8: 0.022 | K8: 0.008
A9: 8 | B9: 0.00185 | C9: 0.0011 | D9: 0.0026 | E9: Baa2 | H9: 0.0075 | I9: 0.01 | J9: 0.022 | K9: 0.008
A10: 9 | B10: 0.00325 | C10: 0.0026 | D10: 0.0039 | E10: Baa3 | H10: 0.0075 | I10: 0.01 | J10: 0.022 | K10: 0.008
A11: 10 | B11: 0.00485 | C11: 0.0039 | D11: 0.0058 | E11: Ba1 | F11: III | G11: Patenkinamas (BB) | H11: 0.01 | I11: 0.022 | J11: 0.04 | K11: 0.02
A12: 11 | B12: 0.00725 | C12: 0.0058 | D12: 0.0087 | E12: Ba2 | H12: 0.01 | I12: 0.022 | J12: 0.04 | K12: 0.02
A13: 12 | B13: 0.01085 | C13: 0.0087 | D13: 0.013 | E13: Ba3 | H13: 0.01 | I13: 0.022 | J13: 0.04 | K13: 0.02
A14: 13 | B14: 0.0145 | C14: 0.013 | D14: 0.016 | E14: Ba3 | H14: 0.01 | I14: 0.022 | J14: 0.04 | K14: 0.02
A15: 14 | B15: 0.0205 | C15: 0.016 | D15: 0.025 | E15: B1 | F15: IV | G15: Silpnas (B) | H15: 0.022 | I15: 0.04 | J15: 0.065 | K15: 0.038
A16: 15 | B16: 0.028 | C16: 0.025 | D16: 0.031 | E16: B2 | H16: 0.022 | I16: 0.04 | J16: 0.065 | K16: 0.038
A17: 16 | B17: 0.0345 | C17: 0.031 | D17: 0.038 | E17: B2 | H17: 0.022 | I17: 0.04 | J17: 0.065 | K17: 0.038
A18: 17 | B18: 0.0405 | C18: 0.038 | D18: 0.043 | E18: B3 | H18: 0.022 | I18: 0.04 | J18: 0.065 | K18: 0.063
A19: 18 | B19: 0.0535 | C19: 0.043 | D19: 0.064 | E19: B3 | H19: 0.022 | I19: 0.04 | J19: 0.065 | K19: 0.063
A20: 19 | B20: 0.078 | C20: 0.064 | D20: 0.092 | E20: Caa1 | F20: V | G20: Nefinansuotina, bankrutuojantis ir (arba) finansiniais sunkumai (CCC ir žemiau) | H20: 0.04 | I20: 0.065 | J20: 0.1 | K20: nefinansuotina
A21: 20 | B21: 0.1125 | C21: 0.092 | D21: 0.133 | E21: Caa2
A22: 21 | B22: 0.16 | C22: 0.133 | D22: 0.187 | E22: Caa3
A23: 22 | B23: 0.2225 | C23: 0.187 | D23: 0.258 | E23: Ca
A24: 23 | B24: 0.3005 | C24: 0.258 | D24: 0.343 | E24: C
A25: 24 | B25: 0.6715 | C25: 0.343 | D25: 1 | E25: D
A27: *Komisijos Komunikatas dėl orientacinių ir diskonto normų nustatymo metodo pakeitimo (2008/C 14/02)
A28: **Commission Notice on the application of Articles 87 and 88 of the EC Treaty to State aid in the form of guarantees

Sheet Premija
A1: RG | B1: PD vidurkis
A3: 2 | B3: 8e-05
A4: 3 | B4: 0.00019
A5: 4 | B5: 0.00028
A6: 5 | B6: 0.00042
A7: 6 | B7: 0.00065
A8: 7 | B8: 0.00095
A9: 8 | B9: 0.00185
A10: 9 | B10: 0.00325
A11: 10 | B11: 0.00485
A12: 11 | B12: 0.00725
A13: 12 | B13: 0.01085
A14: 13 | B14: 0.0145
... A23: 22 | B23: 0.2225
A24: 23 | B24: 0.3005 | M24: =1.73-1.04 -> 0.69 | V24: =1.73-0.58 -> 1.15
A25: 24 | B25: 0.6715
C27: LGD | D27: 0.75 | L27: LGD | M27: 0.45 | U27: LGD | V27: 0.25
B29: Moody's PD | C29: ECL | D29: Spread | E29: Margin | K29: Moody's PD | L29: ECL | M29: Adj. Spread | N29: Margin | T29: Moody's PD | U29: ECL | V29: Adj. Spread | W29: Margin
A30: BBB | B30: 0.002 | C30: =B30*0.75 -> 0.0015 | D30: =Yields!AN756/100 -> 0.017307235 | E30: =1.73%+1.4293*C30 -> 0.01944395 | J30: BBB | K30: 0.002 | L30: =K30*0.45 -> 0.0009 | M30: =D30*(0.45/0.75) -> 0.010384341 | N30: =1.04%+1.4293*L30 -> 0.01168637 | S30: BBB | T30: 0.002 | U30: =T30*0.25 -> 0.0005 | V30: =D30*(0.25/0.75) -> 0.0057690783 | W30: =0.58%+1.4293*U30 -> 0.00651465
A31: BB | B31: 0.007 | C31: =B31*0.75 -> 0.00525 | D31: =Yields!AO756/100 -> 0.028427807 | E31: =1.73%+1.4293*C31 -> 0.024803825 | J31: BB | K31: 0.007 | L31: =K31*0.45 -> 0.00315 | M31: =D31*(0.45/0.75) -> 0.017056684 | N31: =1.04%+1.4293*L31 -> 0.014902295 | S31: BB | T31: 0.007 | U31: =T31*0.25 -> 0.00175 | V31: =D31*(0.25/0.75) -> 0.0094759358 | W31: =0.58%+1.4293*U31 -> 0.008301275
A32: B | B32: 0.027 | C32: =B32*0.75 -> 0.02025 | D32: =Yields!AP756/100 -> 0.044272614 | E32: =1.73%+1.4293*C32 -> 0.046243325 | J32: B | K32: 0.027 | L32: =K32*0.45 -> 0.01215 | M32: =D32*(0.45/0.75) -> 0.026563569 | N32: =1.04%+1.4293*L32 -> 0.027765995 | S32: B | T32: 0.027 | U32: =T32*0.25 -> 0.00675 | V32: =D32*(0.25/0.75) -> 0.014757538 | W32: =0.58%+1.4293*U32 -> 0.015447775
A33: CCC | B33: 0.067 | C33: =B33*0.75 -> 0.05025 | D33: =Yields!AQ756/100 -> 0.089600843 | E33: =1.73%+1.4293*C33 -> 0.089122325 | J33: CCC | K33: 0.067 | L33: =K33*0.45 -> 0.03015 | M33: =D33*(0.45/0.75) -> 0.053760506 | N33: =1.04%+1.4293*L33 -> 0.053493395 | S33: CCC | T33: 0.067 | U33: =T33*0.25 -> 0.01675 | V33: =D33*(0.25/0.75) -> 0.029866948 | W33: =0.58%+1.4293*U33 -> 0.029740775

Sheet Validations
A1: Įmonės amžius | B1: Sektorius | C1: De minimis | D1: Ar gali būti suteikta pagalba? | E1: Įmonės dydis | F1: Paskirtis | G1: RG | H1: Paskolos terminas | I1: Atidėjimo terminas | J1: Grafikas | K1: Paskolos tipas | L1: Dydis | M1: Tinkamų finansuoti išlaidų lubos | N1: Kliento rizika
A2: iki 3 metų | B2: Krovinių vežimas keliais | C2: 100000 | D2: Taip | E2: Labai maža ir maža | F2: Investicinė | G2: 2 | H2: 1 | I2: 0 | J2: Lygiomis dalimis | K2: Tik MTEP | L2: Labai maža ir maža | M2: 0.45 | N2: Labai žema (PD < 0,1%)
A3: virš 3 metų | B3: Kita veikla | C3: 200000 | D3: Ne | E3: Vidutinė | F3: Apyvartinė su grafiku | G3: 3 | H3: 2 | I3: 1 | J3: Kitas | K3: MTEP ir inovacijos | L3: Vidutinė | M3: 0.35 | N3: Žema (PD < 0,3%)
E4: Didelė | F4: Lizingas | G4: 4 | H4: 3 | I4: 2 | L4: Didelė | M4: 0.25 | N4: Vidutinė (PD < 1,5%)
F5: Obligacijų emisija | G5: 5 | H5: 4 | I5: 3 | N5: Aukšta (PD < 3,5%)
F6: Kredito linija | G6: 6 | H6: 5 | I6: 4 | N6: Labai aukšta (PD > 3,5%)
G7: 7 | H7: 6 | I7: 5 | N7: Nauja įmonė
G8: 8 | H8: 7 | I8: 6
G9: 9 | H9: 8 | I9: 7
G10: 10 | H10: 9 | I10: 8
G11: 11 | H11: 10 | I11: 9
G12: 12 | H12: 11 | I12: 10
G13: 13 | H13: 12 | I13: 11
G14: 14 | H14: 13 | I14: 12
G15: 15 | H15: 14 | I15: 13
G16: 16 | H16: 15 | I16: 14
G17: 17 | H17: 16 | I17: 15
G18: 18 | H18: 17 | I18: 16
H19: 18 | I19: 17
H20: 19 | I20: 18
H21: 20 | I21: 19
H22: 21 | I22: 20
H23: 22 | I23: 21
H24: 23 | I24: 22
H25: 24 | I25: 23
H26: 25 | I26: 24
H27: 26 | I27: 25
H28: 27 | I28: 26
H29: 28 | I29: 27
H30: 29 | I30: 28
... H62: 61 | I62: 60
H63: 62
H64: 63
H65: 64
H66: 65
H67: 66
H68: 67
H69: 68
H70: 69
H71: 70
...

Sheet pasiūlymas
E1: Pildyti tik žalius laukelius | V1: ECL po garantijos | W1: =+W3*(1-I12) -> 23407.9 | X1: =+X3/F7 -> 0.2342553
A2: Max leistinas priemonės nuostolingumas, % | B2: 0.3 | E2: Tiesioginės paskolos Startuok | H2: Užpildykite preliminarias likvidacines užstato vertes | O2: =+SUM(O4:O243) -> 100000.32 | P2: terminas (mėn) | Q2: PD mėnesinis | R2: PD lifetime | W2: ECL_T | X2: Palūkanos | Y2: =+VLOOKUP(1,Y4:AA3004,3,FALSE) -> 0.0414 | AC2: 12 mėn ECL_T | AD2: =+SUM(W4:W15)/F7 -> 0.0404567
A3: RG atitinkanti PD | B3: =INDEX(AI4:AI25,MATCH(F3,AH4:AH25,0)) -> 0.040456596 | E3: Pareiškėjo ir/ar projekto RG | F3: 15 | H3: Užstato tipas | I3: Užstato likvidacinė vertė*, Eur | J3: Įkeitimo atidėjimo terminas (mėn.) | M3: likutis po užstatu | N3: Paskolos likutis pradžiai | O3: Įmokų grafikas | P3: 0 | R3: =+SUBTOTAL(9,R4:R243) -> 0.33832269 | S3: uzstatas po nusidėvėjimo | T3: Invega Default ratio capped | U3: Invega Default ratio | W3: =+SUM(W4:W243) -> 23407.9 | X3: =+SUBTOTAL(9,X4:X243) -> 23425.53 | AC3: Pradinė užstato vertė (%) | AE3: amortizacija metais | AH3: Galutinė RG (CI+IRM) | AI3: PD avg
A4: Viso laikotarpio ECL | B4: =IF(I11="Taip",W1*0.3/F7,W1/F7) -> 0.234079 | E4: Paskolos terminas (mėn.) | F4: 120 | H4: Transporto priemonės, mašinos, įrengimai | I4: 0 | J4: 0 | M4: =ROUND(MAX((N4-S4)*_xlfn.XLOOKUP($P4,Užstatai!$L$3:$IR$3,Užstatai!$L$33:$IR$33,"bla",0,1),0)+N4*(1-_xlfn.XLOOKUP($P4,Užstatai!$L$3:$IR$3,Užstatai!$L$33:$IR$33,"bla",0,1)),2) -> 100000 | N4: =+F7 -> 100000 | O4: =ROUND(IF($F$21>0,F22,IF(P4<=$F$5,0,IF(P4>$F$4,0,1/($F$4-$F$5)*($F$7)))),2) -> 0 | P4: 1 | Q4: =1-(1-$B$3)^(P4/12) -> 0.0034355623 | R4: =+$B$3 -> 0.040456596 | S4: =+_xlfn.XLOOKUP($P4,Užstatai!$L$3:$IR$3,Užstatai!$L$1:$IR$1,"bla",0,1) -> 0 | T4: =MIN(1+MAX(0.0362*P4/12-0.1052/12,0),1) -> 1 | U4: =1+MAX(0.0362*P4/12-0.1052/12,0) -> 1 | W4: =ROUND(M4*(Q4-Q3),2) -> 343.56 | X4: =ROUND(N4*$Y$2/12*(1-Q4),2) -> 343.81 | Y4: =+IF(Z4>=$W$1,1,0) -> 0 | Z4: =SUM($N$4:$N$183)*AA4/12-SUMPRODUCT($N$4:$N$183,$Q$4:$Q$183)*AA4/12 -> 0 | AA4: 0 | AC4: Transporto priemonės, mašinos, įrengimai | AE4: 5 | AH4: 1 | AI4: 0.0008
A5: Administracinės (metinės) | B5: =+#REF! -> #REF! | E5: Įmokos atidėjimas (mėn.) | F5: 36 | H5: Nekilnojamas turtas (išskyrus žemę) | J5: 0 | M5: =ROUND(MAX((N5-S5)*_xlfn.XLOOKUP($P5,Užstatai!$L$3:$IR$3,Užstatai!$L$33:$IR$33,"bla",0,1),0)+N5*(1-_xlfn.XLOOKUP($P5,Užstatai!$L$3:$IR$3,Užstatai!$L$33:$IR$33,"bla",0,1)),2) -> 100000 | N5: =IF(MAX(ROUND(N4-O4,2),0)<0.5,0,MAX(ROUND(N4-O4,2),0)) -> 100000 | O5: =ROUND(IF($F$21>0,F23,IF(P5<=$F$5,0,IF(P5>$F$4,0,1/($F$4-$F$5)*($F$7)))),2) -> 0 | P5: =+P4+1 -> 2 | Q5: =1-(1-$B$3)^(P5/12) -> 0.0068593214 | S5: =+_xlfn.XLOOKUP($P5,Užstatai!$L$3:$IR$3,Užstatai!$L$1:$IR$1,"bla",0,1) -> 0 | T5: =MIN(1+MAX(0.0362*P5/12-0.1052/12,0),1) -> 1 | U5: =1+MAX(0.0362*P5/12-0.1052/12,0) -> 1 | W5: =ROUND(M5*(Q5-Q4),2) -> 342.38 | X5: =ROUND(N5*$Y$2/12*(1-Q5),2) -> 342.63 | Y5: =+IF(Z5>=$W$1,1,0) -> 0 | Z5: =SUM($N$4:$N$183)*AA5/12-SUMPRODUCT($N$4:$N$183,$Q$4:$Q$183)*AA5/12 -> 56.58339 | AA5: =+AA4+0.0001 -> 0.0001 | AC5: Nekilnojamas turtas (išskyrus žemę) | AE5: 15 | AH5: 2 | AI5: 0.0008 | AJ5: Labai žema (įsipareigojimų nevykdymo tikimybė per ateinančius 12-ka mėnesių iki 0,89%)
A6: Lubos | B6: 0.3 | E6: Paskolos tipas | F6: Investicinė | H6: Žemė | I6: 50000 | J6: 0 | M6: =ROUND(MAX((N6-S6)*_xlfn.XLOOKUP($P6,Užstatai!$L$3:$IR$3,Užstatai!$L$33:$IR$33,"bla",0,1),0)+N6*(1-_xlfn.XLOOKUP($P6,Užstatai!$L$3:$IR$3,Užstatai!$L$33:$IR$33,"bla",0,1)),2) -> 100000 | N6: =IF(MAX(ROUND(N5-O5,2),0)<0.5,0,MAX(ROUND(N5-O5,2),0)) -> 100000 | O6: =ROUND(IF($F$21>0,F24,IF(P6<=$F$5,0,IF(P6>$F$4,0,1/($F$4-$F$5)*($F$7)))),2) -> 0 | P6: =+P5+1 -> 3 | Q6: =1-(1-$B$3)^(P6/12) -> 0.010271318 | S6: =+_xlfn.XLOOKUP($P6,Užstatai!$L$3:$IR$3,Užstatai!$L$1:$IR$1,"bla",0,1) -> 0 | T6: =MIN(1+MAX(0.0362*P6/12-0.1052/12,0),1) -> 1 | U6: =1+MAX(0.0362*P6/12-0.1052/12,0) -> 1.0002833 | W6: =ROUND(M6*(Q6-Q5),2) -> 341.2 | X6: =ROUND(N6*$Y$2/12*(1-Q6),2) -> 341.46 | Y6: =+IF(Z6>=$W$1,1,0) -> 0 | Z6: =SUM($N$4:$N$183)*AA6/12-SUMPRODUCT($N$4:$N$183,$Q$4:$Q$183)*AA6/12 -> 113.16678 | AA6: =+AA5+0.0001 -> 0.0002 | AC6: Žemė | AE6: 0 | AH6: 3 | AI6: 0.001515929 | AJ6: Labai žema (įsipareigojimų nevykdymo tikimybė per ateinančius 12-ka mėnesių iki 0,89%)
A7: Grindys | B7: 0 | E7: Paskolos suma Eur. | F7: 100000 | H7: Deponuotos lėšos (įkeistos visam paskolos terminui) | J7: 0 | M7: =ROUND(MAX((N7-S7)*_xlfn.XLOOKUP($P7,Užstatai!$L$3:$IR$3,Užstatai!$L$33:$IR$33,"bla",0,1),0)+N7*(1-_xlfn.XLOOKUP($P7,Užstatai!$L$3:$IR$3,Užstatai!$L$33:$IR$33,"bla",0,1)),2) -> 100000 | N7: =IF(MAX(ROUND(N6-O6,2),0)<0.5,0,MAX(ROUND(N6-O6,2),0)) -> 100000 | O7: =ROUND(IF($F$21>0,F25,IF(P7<=$F$5,0,IF(P7>$F$4,0,1/($F$4-$F$5)*($F$7)))),2) -> 0 | P7: =+P6+1 -> 4 | Q7: =1-(1-$B$3)^(P7/12) -> 0.013671593 | S7: =+_xlfn.XLOOKUP($P7,Užstatai!$L$3:$IR$3,Užstatai!$L$1:$IR$1,"bla",0,1) -> 0 | T7: =MIN(1+MAX(0.0362*P7/12-0.1052/12,0),1) -> 1 | U7: =1+MAX(0.0362*P7/12-0.1052/12,0) -> 1.0033 | W7: =ROUND(M7*(Q7-Q6),2) -> 340.03 | X7: =ROUND(N7*$Y$2/12*(1-Q7),2) -> 340.28 | Y7: =+IF(Z7>=$W$1,1,0) -> 0 | Z7: =SUM($N$4:$N$183)*AA7/12-SUMPRODUCT($N$4:$N$183,$Q$4:$Q$183)*AA7/12 -> 169.75017 | AA7: =+AA6+0.0001 -> 0.0003 | AC7: Deponuotos lėšos (įkeistos) | AE7: 0 | AH7: 4 | AI7: 0.0021963658 | AJ7: Labai žema (įsipareigojimų nevykdymo tikimybė per ateinančius 12-ka mėnesių iki 0,89%)
A8: Užstato likvidacinė vertė (įkeitimas iki 6 mėn.) | B8: =MAX(IF(I11="Taip",70%,0),MIN(SUMIF(J4:J10,"<7",I4:I10)/F7+SUMIF(J12,"<7",I12),1)) -> 0.5 | E8: Marža be soc. nuolaidos ir be 12 mėn. EURIBOR* | F8: =IF(OR(F3="",F4="",F5="",F6="",F7="",F10="",F11=""),"N/A",IF(I11="Taip",MAX(B15,B12),IF(AND(F3>AH15,B8<0.3,F6=AC14),"Nefinansuojam",B13))) -> #REF! | H8: Atsargos, gautinos sumos ir kitas trumpalaikis turtas | J8: 0 | M8: =ROUND(MAX((N8-S8)*_xlfn.XLOOKUP($P8,Užstatai!$L$3:$IR$3,Užstatai!$L$33:$IR$33,"bla",0,1),0)+N8*(1-_xlfn.XLOOKUP($P8,Užstatai!$L$3:$IR$3,Užstatai!$L$33:$IR$33,"bla",0,1)),2) -> 100000 | N8: =IF(MAX(ROUND(N7-O7,2),0)<0.5,0,MAX(ROUND(N7-O7,2),0)) -> 100000 | O8: =ROUND(IF($F$21>0,F26,IF(P8<=$F$5,0,IF(P8>$F$4,0,1/($F$4-$F$5)*($F$7)))),2) -> 0 | P8: =+P7+1 -> 5 | Q8: =1-(1-$B$3)^(P8/12) -> 0.017060185 | S8: =+_xlfn.XLOOKUP($P8,Užstatai!$L$3:$IR$3,Užstatai!$L$1:$IR$1,"bla",0,1) -> 0 | T8: =MIN(1+MAX(0.0362*P8/12-0.1052/12,0),1) -> 1 | U8: =1+MAX(0.0362*P8/12-0.1052/12,0) -> 1.0063167 | W8: =ROUND(M8*(Q8-Q7),2) -> 338.86 | X8: =ROUND(N8*$Y$2/12*(1-Q8),2) -> 339.11 | Y8: =+IF(Z8>=$W$1,1,0) -> 0 | Z8: =SUM($N$4:$N$183)*AA8/12-SUMPRODUCT($N$4:$N$183,$Q$4:$Q$183)*AA8/12 -> 226.33356 | AA8: =+AA7+0.0001 -> 0.0004 | AC8: Atsargos, gautinos sumos ir kitas trumpalaikis turtas | AE8: 0 | AH8: 5 | AI8: 0.0030300817 | AJ8: Labai žema (įsipareigojimų nevykdymo tikimybė per ateinančius 12-ka mėnesių iki 0,89%)
A9: Priedas % (+)/Nuolaida % (-) | B9: 0 | E9: =+IF(OR(F3="",F4="",F5="",F6="",F7="",F10="",F11=""),"Yra tuščių laukų. Įveskite visus duomenis","") | H9: Laidavimai (Eur) | J9: 0 | M9: =ROUND(MAX((N9-S9)*_xlfn.XLOOKUP($P9,Užstatai!$L$3:$IR$3,Užstatai!$L$33:$IR$33,"bla",0,1),0)+N9*(1-_xlfn.XLOOKUP($P9,Užstatai!$L$3:$IR$3,Užstatai!$L$33:$IR$33,"bla",0,1)),2) -> 100000 | N9: =IF(MAX(ROUND(N8-O8,2),0)<0.5,0,MAX(ROUND(N8-O8,2),0)) -> 100000 | O9: =ROUND(IF($F$21>0,F27,IF(P9<=$F$5,0,IF(P9>$F$4,0,1/($F$4-$F$5)*($F$7)))),2) -> 0 | P9: =+P8+1 -> 6 | Q9: =1-(1-$B$3)^(P9/12) -> 0.020437136 | S9: =+_xlfn.XLOOKUP($P9,Užstatai!$L$3:$IR$3,Užstatai!$L$1:$IR$1,"bla",0,1) -> 0 | T9: =MIN(1+MAX(0.0362*P9/12-0.1052/12,0),1) -> 1 | U9: =1+MAX(0.0362*P9/12-0.1052/12,0) -> 1.0093333 | W9: =ROUND(M9*(Q9-Q8),2) -> 337.7 | X9: =ROUND(N9*$Y$2/12*(1-Q9),2) -> 337.95 | Y9: =+IF(Z9>=$W$1,1,0) -> 0 | Z9: =SUM($N$4:$N$183)*AA9/12-SUMPRODUCT($N$4:$N$183,$Q$4:$Q$183)*AA9/12 -> 282.91695 | AA9: =+AA8+0.0001 -> 0.0005 | AC9: Laidavimai (Eur) | AE9: 0 | AH9: 6 | AI9: 0.0041692239 | AJ9: Labai žema (įsipareigojimų nevykdymo tikimybė per ateinančius 12-ka mėnesių iki 0,89%)
E10: Ar vykdo socialinio poveikio projektus | F10: Ne | H10: Akcijos ir obligacijos | J10: 0 | M10: =ROUND(MAX((N10-S10)*_xlfn.XLOOKUP($P10,Užstatai!$L$3:$IR$3,Užstatai!$L$33:$IR$33,"bla",0,1),0)+N10*(1-_xlfn.XLOOKUP($P10,Užstatai!$L$3:$IR$3,Užstatai!$L$33:$IR$33,"bla",0,1)),2) -> 100000 | N10: =IF(MAX(ROUND(N9-O9,2),0)<0.5,0,MAX(ROUND(N9-O9,2),0)) -> 100000 | O10: =ROUND(IF($F$21>0,F28,IF(P10<=$F$5,0,IF(P10>$F$4,0,1/($F$4-$F$5)*($F$7)))),2) -> 0 | P10: =+P9+1 -> 7 | Q10: =1-(1-$B$3)^(P10/12) -> 0.023802485 | S10: =+_xlfn.XLOOKUP($P10,Užstatai!$L$3:$IR$3,Užstatai!$L$1:$IR$1,"bla",0,1) -> 0 | T10: =MIN(1+MAX(0.0362*P10/12-0.1052/12,0),1) -> 1 | U10: =1+MAX(0.0362*P10/12-0.1052/12,0) -> 1.01235 | W10: =ROUND(M10*(Q10-Q9),2) -> 336.53 | X10: =ROUND(N10*$Y$2/12*(1-Q10),2) -> 336.79 | Y10: =+IF(Z10>=$W$1,1,0) -> 0 | Z10: =SUM($N$4:$N$183)*AA10/12-SUMPRODUCT($N$4:$N$183,$Q$4:$Q$183)*AA10/12 -> 339.50034 | AA10: =+AA9+0.0001 -> 0.0006 | AC10: Garantija (%) | AE10: 0 | AH10: 7 | AI10: 0.0057844621 | AJ10: Labai žema (įsipareigojimų nevykdymo tikimybė per ateinančius 12-ka mėnesių iki 0,89%)
A11: Palūkanos padengti lifetime ECL (Palūkanų bazė) | B11: =+Y2 -> 0.0414 | E11: =+IF(F10="Taip","12 mėn. EURIBOR be soc. nuolaidos","12 mėn. EURIBOR kredito rizikos vertinimui") -> 12 mėn. EURIBOR kredito rizikos vertinimui | F11: 0.02 | H11: EGF garantija | I11: Ne | J11: 0 | M11: =ROUND(MAX((N11-S11)*_xlfn.XLOOKUP($P11,Užstatai!$L$3:$IR$3,Užstatai!$L$33:$IR$33,"bla",0,1),0)+N11*(1-_xlfn.XLOOKUP($P11,Užstatai!$L$3:$IR$3,Užstatai!$L$33:$IR$33,"bla",0,1)),2) -> 100000 | N11: =IF(MAX(ROUND(N10-O10,2),0)<0.5,0,MAX(ROUND(N10-O10,2),0)) -> 100000 | O11: =ROUND(IF($F$21>0,F29,IF(P11<=$F$5,0,IF(P11>$F$4,0,1/($F$4-$F$5)*($F$7)))),2) -> 0 | P11: =+P10+1 -> 8 | Q11: =1-(1-$B$3)^(P11/12) -> 0.027156273 | S11: =+_xlfn.XLOOKUP($P11,Užstatai!$L$3:$IR$3,Užstatai!$L$1:$IR$1,"bla",0,1) -> 0 | T11: =MIN(1+MAX(0.0362*P11/12-0.1052/12,0),1) -> 1 | U11: =1+MAX(0.0362*P11/12-0.1052/12,0) -> 1.0153667 | W11: =ROUND(M11*(Q11-Q10),2) -> 335.38 | X11: =ROUND(N11*$Y$2/12*(1-Q11),2) -> 335.63 | Y11: =+IF(Z11>=$W$1,1,0) -> 0 | Z11: =SUM($N$4:$N$183)*AA11/12-SUMPRODUCT($N$4:$N$183,$Q$4:$Q$183)*AA11/12 -> 396.08373 | AA11: =+AA10+0.0001 -> 0.0007 | AC11: Akcijos ir obligacijos | AE11: 0 | AH11: 8 | AI11: 0.0081373271 | AJ11: Labai žema (įsipareigojimų nevykdymo tikimybė per ateinančius 12-ka mėnesių iki 0,89%)
A12: Komunikatas Palūkaninis | B12: =MAX(0.6%,VLOOKUP(F3,#REF!,_xlfn.XLOOKUP(B8,#REF!,#REF!,"bla",-1,1)))+B5 -> #REF! | C12: palūkaninis komunikatas start-up'am nurodo, kad palūkanos negali būti mažiau už 400 bazinių punktų (t.y. 4%) | H12: Garantija (%) | I12: 0 | J12: 0 | M12: =ROUND(MAX((N12-S12)*_xlfn.XLOOKUP($P12,Užstatai!$L$3:$IR$3,Užstatai!$L$33:$IR$33,"bla",0,1),0)+N12*(1-_xlfn.XLOOKUP($P12,Užstatai!$L$3:$IR$3,Užstatai!$L$33:$IR$33,"bla",0,1)),2) -> 100000 | N12: =IF(MAX(ROUND(N11-O11,2),0)<0.5,0,MAX(ROUND(N11-O11,2),0)) -> 100000 | O12: =ROUND(IF($F$21>0,F30,IF(P12<=$F$5,0,IF(P12>$F$4,0,1/($F$4-$F$5)*($F$7)))),2) -> 0 | P12: =+P11+1 -> 9 | Q12: =1-(1-$B$3)^(P12/12) -> 0.030498538 | S12: =+_xlfn.XLOOKUP($P12,Užstatai!$L$3:$IR$3,Užstatai!$L$1:$IR$1,"bla",0,1) -> 0 | T12: =MIN(1+MAX(0.0362*P12/12-0.1052/12,0),1) -> 1 | U12: =1+MAX(0.0362*P12/12-0.1052/12,0) -> 1.0183833 | W12: =ROUND(M12*(Q12-Q11),2) -> 334.23 | X12: =ROUND(N12*$Y$2/12*(1-Q12),2) -> 334.48 | Y12: =+IF(Z12>=$W$1,1,0) -> 0 | Z12: =SUM($N$4:$N$183)*AA12/12-SUMPRODUCT($N$4:$N$183,$Q$4:$Q$183)*AA12/12 -> 452.66712 | AA12: =+AA11+0.0001 -> 0.0008 | AH12: 9 | AI12: 0.011508177 | AJ12: Žema (įsipareigojimų nevykdymo tikimybė per ateinančius 12-ka mėnesių nuo 0,9% iki 2,34%)
A13: Palūkanų marža | B13: =MAX(MIN((B11*VLOOKUP(F4,P4:T183,5,FALSE)*IF(SUM($I$4:$I$10)>10,1,IF(F5=0,1,VLOOKUP($F$5,$P$4:$U$39,6,FALSE)))+$B$5)*(1+B9),B6),B12,B7) -> #REF! | E13: =+IF(F10="taip","Marža su 12 mėn EURIBOR* ir su 30% nuolaida kredito rizikos vertinimui","Marža su 12 mėn EURIBOR* kredito rizikos vertinimui") -> Marža su 12 mėn EURIBOR* kredito rizikos vertinimui | F13: =+IF(F10="taip",(F11+F8)*0.7,F11+F8) -> #REF! | H13: * Neturint užstato - vesti nulį. | M13: =ROUND(MAX((N13-S13)*_xlfn.XLOOKUP($P13,Užstatai!$L$3:$IR$3,Užstatai!$L$33:$IR$33,"bla",0,1),0)+N13*(1-_xlfn.XLOOKUP($P13,Užstatai!$L$3:$IR$3,Užstatai!$L$33:$IR$33,"bla",0,1)),2) -> 100000 | N13: =IF(MAX(ROUND(N12-O12,2),0)<0.5,0,MAX(ROUND(N12-O12,2),0)) -> 100000 | O13: =ROUND(IF($F$21>0,F31,IF(P13<=$F$5,0,IF(P13>$F$4,0,1/($F$4-$F$5)*($F$7)))),2) -> 0 | P13: =+P12+1 -> 10 | Q13: =1-(1-$B$3)^(P13/12) -> 0.033829321 | S13: =+_xlfn.XLOOKUP($P13,Užstatai!$L$3:$IR$3,Užstatai!$L$1:$IR$1,"bla",0,1) -> 0 | T13: =MIN(1+MAX(0.0362*P13/12-0.1052/12,0),1) -> 1 | U13: =1+MAX(0.0362*P13/12-0.1052/12,0) -> 1.0214 | W13: =ROUND(M13*(Q13-Q12),2) -> 333.08 | X13: =ROUND(N13*$Y$2/12*(1-Q13),2) -> 333.33 | Y13: =+IF(Z13>=$W$1,1,0) -> 0 | Z13: =SUM($N$4:$N$183)*AA13/12-SUMPRODUCT($N$4:$N$183,$Q$4:$Q$183)*AA13/12 -> 509.25051 | AA13: =+AA12+0.0001 -> 0.0009 | AC13: Apyvartinė | AD13: Taip | AH13: 10 | AI13: 0.016492396 | AJ13: Žema (įsipareigojimų nevykdymo tikimybė per ateinančius 12-ka mėnesių nuo 0,9% iki 2,34%)
A14: Palūkanos be Komunikato (be EGF) | B14: =MAX(MIN((B11*VLOOKUP(F4,P4:T183,5,FALSE)*IF(SUM($I$4:$I$10)>10,1,IF(F5=0,1,VLOOKUP($F$5,$P$4:$U$39,6,FALSE)))+$B$5)*(1+B9)*IF(F10="taip",0.7,1),B6),B7) -> #REF! | E14: * 12 mėn. Euribor bus nustatytas sutarties parengimo dieną (nuoroda žemiau). | H14: Užstato santykis su paskola | I14: =MAX(IF(I11="Taip",0.7,0),MIN(SUMIF(J4:J10,"<7",I4:I10)/F7+SUMIF(J12,"<7",I12),1)) -> 0.5 | M14: =ROUND(MAX((N14-S14)*_xlfn.XLOOKUP($P14,Užstatai!$L$3:$IR$3,Užstatai!$L$33:$IR$33,"bla",0,1),0)+N14*(1-_xlfn.XLOOKUP($P14,Užstatai!$L$3:$IR$3,Užstatai!$L$33:$IR$33,"bla",0,1)),2) -> 100000 | N14: =IF(MAX(ROUND(N13-O13,2),0)<0.5,0,MAX(ROUND(N13-O13,2),0)) -> 100000 | O14: =ROUND(IF($F$21>0,F32,IF(P14<=$F$5,0,IF(P14>$F$4,0,1/($F$4-$F$5)*($F$7)))),2) -> 0 | P14: =+P13+1 -> 11 | Q14: =1-(1-$B$3)^(P14/12) -> 0.03714866 | S14: =+_xlfn.XLOOKUP($P14,Užstatai!$L$3:$IR$3,Užstatai!$L$1:$IR$1,"bla",0,1) -> 0 | T14: =MIN(1+MAX(0.0362*P14/12-0.1052/12,0),1) -> 1 | U14: =1+MAX(0.0362*P14/12-0.1052/12,0) -> 1.0244167 | W14: =ROUND(M14*(Q14-Q13),2) -> 331.93 | X14: =ROUND(N14*$Y$2/12*(1-Q14),2) -> 332.18 | Y14: =+IF(Z14>=$W$1,1,0) -> 0 | Z14: =SUM($N$4:$N$183)*AA14/12-SUMPRODUCT($N$4:$N$183,$Q$4:$Q$183)*AA14/12 -> 565.8339 | AA14: =+AA13+0.0001 -> 0.001 | AC14: Investicinė | AD14: Ne | AH14: 11 | AI14: 0.02548599 | AJ14: Žema (įsipareigojimų nevykdymo tikimybė per ateinančius 12-ka mėnesių nuo 0,9% iki 2,34%)
A15: =+IF(I11="Taip","Palūkanos su EGF","") | B15: =IF(I11="Taip",MAX((B11*0.3+0.7%*0.7)*VLOOKUP(F4,P4:T183,5,FALSE)*IF(SUM($I$4:$I$10)>10,1,IF(F5=0,1,VLOOKUP($F$5,$P$4:$U$39,6,FALSE)))+$B$5,B12,B7),"") | E15: https://www.euribor-rates.eu/en/current-euribor-rates/4/euribor-rate-12-months/ | H15: =+IF(F6="","Nurodykite paskolos paskirtį Apyvartinė ar Investicinė",IF(F5="","Nurodykite įmokos atidėjimo terminą",IF(F10="","Nurodykite ar projektas socialinio poveikio",IF(F11="","Nurodykite 12 mėnesių EURIBOR reikšmę","")))) | M15: =ROUND(MAX((N15-S15)*_xlfn.XLOOKUP($P15,Užstatai!$L$3:$IR$3,Užstatai!$L$33:$IR$33,"bla",0,1),0)+N15*(1-_xlfn.XLOOKUP($P15,Užstatai!$L$3:$IR$3,Užstatai!$L$33:$IR$33,"bla",0,1)),2) -> 100000 | N15: =IF(MAX(ROUND(N14-O14,2),0)<0.5,0,MAX(ROUND(N14-O14,2),0)) -> 100000 | O15: =ROUND(IF($F$21>0,F33,IF(P15<=$F$5,0,IF(P15>$F$4,0,1/($F$4-$F$5)*($F$7)))),2) -> 0 | P15: =+P14+1 -> 12 | Q15: =1-(1-$B$3)^(P15/12) -> 0.040456596 | S15: =+_xlfn.XLOOKUP($P15,Užstatai!$L$3:$IR$3,Užstatai!$L$1:$IR$1,"bla",0,1) -> 0 | T15: =MIN(1+MAX(0.0362*P15/12-0.1052/12,0),1) -> 1 | U15: =1+MAX(0.0362*P15/12-0.1052/12,0) -> 1.0274333 | W15: =ROUND(M15*(Q15-Q14),2) -> 330.79 | X15: =ROUND(N15*$Y$2/12*(1-Q15),2) -> 331.04 | Y15: =+IF(Z15>=$W$1,1,0) -> 0 | Z15: =SUM($N$4:$N$183)*AA15/12-SUMPRODUCT($N$4:$N$183,$Q$4:$Q$183)*AA15/12 -> 622.41729 | AA15: =+AA14+0.0001 -> 0.0011 | AH15: 12 | AI15: 0.028228878 | AJ15: Žema (įsipareigojimų nevykdymo tikimybė per ateinančius 12-ka mėnesių nuo 0,9% iki 2,34%)
E16: Max leistinas priemonės nuostolingumas, % | F16: 0.3 | H16: =+IF(AND(F6="Apyvartinė",F7>200000),"Maksimali apyvartinės paskolos suma 200 000 eurų. Mažinkite paskolos sumą.",IF(AND(F6="Investicinė",F7>3000000),"Maksimali investicinės paskolos suma 3 000 000 eurų. Mažinkite paskolos sumą.","")) | M16: =ROUND(MAX((N16-S16)*_xlfn.XLOOKUP($P16,Užstatai!$L$3:$IR$3,Užstatai!$L$33:$IR$33,"bla",0,1),0)+N16*(1-_xlfn.XLOOKUP($P16,Užstatai!$L$3:$IR$3,Užstatai!$L$33:$IR$33,"bla",0,1)),2) -> 100000 | N16: =IF(MAX(ROUND(N15-O15,2),0)<0.5,0,MAX(ROUND(N15-O15,2),0)) -> 100000 | O16: =ROUND(IF($F$21>0,F34,IF(P16<=$F$5,0,IF(P16>$F$4,0,1/($F$4-$F$5)*($F$7)))),2) -> 0 | P16: =+P15+1 -> 13 | Q16: =1-(1-$B$3)^(P16/12) -> 0.043753167 | R16: =IF(P16>$F$4,0,((1-$B$3)^ROUNDUP(P15/12,0))*$B$3) -> 0.03881986 | S16: =+_xlfn.XLOOKUP($P16,Užstatai!$L$3:$IR$3,Užstatai!$L$1:$IR$1,"bla",0,1) -> 0 | T16: =1+MAX(0.0362*P16/12-0.1052/12,0)-0.002 -> 1.02845 | U16: =+T16 -> 1.02845 | W16: =ROUND(M16*(Q16-Q15),2) -> 329.66 | X16: =ROUND(N16*$Y$2/12*(1-Q16),2) -> 329.91 | Y16: =+IF(Z16>=$W$1,1,0) -> 0 | Z16: =SUM($N$4:$N$183)*AA16/12-SUMPRODUCT($N$4:$N$183,$Q$4:$Q$183)*AA16/12 -> 679.00068 | AA16: =+AA15+0.0001 -> 0.0012 | AC16: Paskolos terminas metais | AD16: Deafault_vnt | AH16: 13 | AI16: 0.031478505 | AJ16: Vidutinė (įsipareigojimų nevykdymo tikimybė per ateinančius 12-ka mėnesių nuo 2,35% iki 4,84%)
E17: Viso laikotarpio ECL | F17: =+B4 -> 0.234079 | H17: =+IF(F4<F5,"Įmokos atidėjimo terminas negali būti ilgesnis už paskolos terminą","") | M17: =ROUND(MAX((N17-S17)*_xlfn.XLOOKUP($P17,Užstatai!$L$3:$IR$3,Užstatai!$L$33:$IR$33,"bla",0,1),0)+N17*(1-_xlfn.XLOOKUP($P17,Užstatai!$L$3:$IR$3,Užstatai!$L$33:$IR$33,"bla",0,1)),2) -> 100000 | N17: =IF(MAX(ROUND(N16-O16,2),0)<0.5,0,MAX(ROUND(N16-O16,2),0)) -> 100000 | O17: =ROUND(IF($F$21>0,F35,IF(P17<=$F$5,0,IF(P17>$F$4,0,1/($F$4-$F$5)*($F$7)))),2) -> 0 | P17: =+P16+1 -> 14 | Q17: =1-(1-$B$3)^(P17/12) -> 0.047038412 | S17: =+_xlfn.XLOOKUP($P17,Užstatai!$L$3:$IR$3,Užstatai!$L$1:$IR$1,"bla",0,1) -> 0 | T17: =1+MAX(0.0362*P17/12-0.1052/12,0)-0.004 -> 1.0294667 | U17: =+T17 -> 1.0294667 | W17: =ROUND(M17*(Q17-Q16),2) -> 328.52 | X17: =ROUND(N17*$Y$2/12*(1-Q17),2) -> 328.77 | Y17: =+IF(Z17>=$W$1,1,0) -> 0 | Z17: =SUM($N$4:$N$183)*AA17/12-SUMPRODUCT($N$4:$N$183,$Q$4:$Q$183)*AA17/12 -> 735.58407 | AA17: =+AA16+0.0001 -> 0.0013 | AC17: 0 | AD17: 0 | AH17: 14 | AI17: 0.035467258 | AJ17: Vidutinė (įsipareigojimų nevykdymo tikimybė per ateinančius 12-ka mėnesių nuo 2,35% iki 4,84%)
E18: =+IF(F17>F16,"DĖMESIO!. Viso laikotarpio tikėtinas nuostolingumas viršija 30% priemonės nuostolingumą.","") | H18: =IF(AND(F3>AH15,B8<0.3,F6=AC14),"Nefinansuojam. Per mažas užstatas","") | M18: =ROUND(MAX((N18-S18)*_xlfn.XLOOKUP($P18,Užstatai!$L$3:$IR$3,Užstatai!$L$33:$IR$33,"bla",0,1),0)+N18*(1-_xlfn.XLOOKUP($P18,Užstatai!$L$3:$IR$3,Užstatai!$L$33:$IR$33,"bla",0,1)),2) -> 100000 | N18: =IF(MAX(ROUND(N17-O17,2),0)<0.5,0,MAX(ROUND(N17-O17,2),0)) -> 100000 | O18: =ROUND(IF($F$21>0,F36,IF(P18<=$F$5,0,IF(P18>$F$4,0,1/($F$4-$F$5)*($F$7)))),2) -> 0 | P18: =+P17+1 -> 15 | Q18: =1-(1-$B$3)^(P18/12) -> 0.050312371 | S18: =+_xlfn.XLOOKUP($P18,Užstatai!$L$3:$IR$3,Užstatai!$L$1:$IR$1,"bla",0,1) -> 0 | T18: =1+MAX(0.0362*P18/12-0.1052/12,0)-0.002 -> 1.0344833 | U18: =+T18 -> 1.0344833 | W18: =ROUND(M18*(Q18-Q17),2) -> 327.4 | X18: =ROUND(N18*$Y$2/12*(1-Q18),2) -> 327.64 | Y18: =+IF(Z18>=$W$1,1,0) -> 0 | Z18: =SUM($N$4:$N$183)*AA18/12-SUMPRODUCT($N$4:$N$183,$Q$4:$Q$183)*AA18/12 -> 792.16746 | AA18: =+AA17+0.0001 -> 0.0014 | AC18: 1 | AD18: 0.015748031 | AH18: 15 | AI18: 0.040456596 | AJ18: Vidutinė (įsipareigojimų nevykdymo tikimybė per ateinančius 12-ka mėnesių nuo 2,35% iki 4,84%)
D19: =+IF(F10="Taip","Soc. nuolaida (30%) pritaikyta nuo didesnio iš skaičių: paskaičiuotos palūkanos; komunikato palūkanos.","") | H19: =+IF(AND(F6="Apyvartinė",F4>36),"Apyvartinė paskola negali būti ilgesnė nei 36 mėn.","") | M19: =ROUND(MAX((N19-S19)*_xlfn.XLOOKUP($P19,Užstatai!$L$3:$IR$3,Užstatai!$L$33:$IR$33,"bla",0,1),0)+N19*(1-_xlfn.XLOOKUP($P19,Užstatai!$L$3:$IR$3,Užstatai!$L$33:$IR$33,"bla",0,1)),2) -> 100000 | N19: =IF(MAX(ROUND(N18-O18,2),0)<0.5,0,MAX(ROUND(N18-O18,2),0)) -> 100000 | O19: =ROUND(IF($F$21>0,F37,IF(P19<=$F$5,0,IF(P19>$F$4,0,1/($F$4-$F$5)*($F$7)))),2) -> 0 | P19: =+P18+1 -> 16 | Q19: =1-(1-$B$3)^(P19/12) -> 0.053575082 | S19: =+_xlfn.XLOOKUP($P19,Užstatai!$L$3:$IR$3,Užstatai!$L$1:$IR$1,"bla",0,1) -> 0 | T19: =1+MAX(0.0362*P19/12-0.1052/12,0)+0.002 -> 1.0415 | U19: =+T19 -> 1.0415 | W19: =ROUND(M19*(Q19-Q18),2) -> 326.27 | X19: =ROUND(N19*$Y$2/12*(1-Q19),2) -> 326.52 | Y19: =+IF(Z19>=$W$1,1,0) -> 0 | Z19: =SUM($N$4:$N$183)*AA19/12-SUMPRODUCT($N$4:$N$183,$Q$4:$Q$183)*AA19/12 -> 848.75085 | AA19: =+AA18+0.0001 -> 0.0015 | AC19: 2 | AD19: 0.051282051 | AH19: 16 | AI19: 0.046802756 | AJ19: Vidutinė (įsipareigojimų nevykdymo tikimybė per ateinančius 12-ka mėnesių nuo 2,35% iki 4,84%)
D20: =+IF(F10="Taip","Užregistruokite (užrezervuokite) valstybės pagalbą.","") | H20: =IFERROR(IF(VLOOKUP(0,N4:P183,3,FALSE)-1<>F4,"Įmokų grafikas nesutampa su paskolos terminu nurodytu laukelyje F4",""),"kažkas blogai") | M20: =ROUND(MAX((N20-S20)*_xlfn.XLOOKUP($P20,Užstatai!$L$3:$IR$3,Užstatai!$L$33:$IR$33,"bla",0,1),0)+N20*(1-_xlfn.XLOOKUP($P20,Užstatai!$L$3:$IR$3,Užstatai!$L$33:$IR$33,"bla",0,1)),2) -> 100000 | N20: =IF(MAX(ROUND(N19-O19,2),0)<0.5,0,MAX(ROUND(N19-O19,2),0)) -> 100000 | O20: =ROUND(IF($F$21>0,F38,IF(P20<=$F$5,0,IF(P20>$F$4,0,1/($F$4-$F$5)*($F$7)))),2) -> 0 | P20: =+P19+1 -> 17 | Q20: =1-(1-$B$3)^(P20/12) -> 0.056826584 | S20: =+_xlfn.XLOOKUP($P20,Užstatai!$L$3:$IR$3,Užstatai!$L$1:$IR$1,"bla",0,1) -> 0 | T20: =1+MAX(0.0362*P20/12-0.1052/12,0)+0.0025 -> 1.0450167 | U20: =+T20 -> 1.0450167 | W20: =ROUND(M20*(Q20-Q19),2) -> 325.15 | X20: =ROUND(N20*$Y$2/12*(1-Q20),2) -> 325.39 | Y20: =+IF(Z20>=$W$1,1,0) -> 0 | Z20: =SUM($N$4:$N$183)*AA20/12-SUMPRODUCT($N$4:$N$183,$Q$4:$Q$183)*AA20/12 -> 905.33424 | AA20: =+AA19+0.0001 -> 0.0016 | AC20: 3 | AD20: 0.050393701 | AH20: 17 | AI20: 0.055038282 | AJ20: Vidutinė (įsipareigojimų nevykdymo tikimybė per ateinančius 12-ka mėnesių nuo 2,35% iki 4,84%)
E21: Įmokų grafikas (mėn) | F21: =+SUM(F22:F141) -> 100000 | H21: =IF(F21=0,"Suveskite įmokų grafiką",IF(IMABS(F7-F21)>0.1,"Įmokų grafikas neatitinka paskolos sumos","")) | M21: =ROUND(MAX((N21-S21)*_xlfn.XLOOKUP($P21,Užstatai!$L$3:$IR$3,Užstatai!$L$33:$IR$33,"bla",0,1),0)+N21*(1-_xlfn.XLOOKUP($P21,Užstatai!$L$3:$IR$3,Užstatai!$L$33:$IR$33,"bla",0,1)),2) -> 100000 | N21: =IF(MAX(ROUND(N20-O20,2),0)<0.5,0,MAX(ROUND(N20-O20,2),0)) -> 100000 | O21: =ROUND(IF($F$21>0,F39,IF(P21<=$F$5,0,IF(P21>$F$4,0,1/($F$4-$F$5)*($F$7)))),2) -> 0 | P21: =+P20+1 -> 18 | Q21: =1-(1-$B$3)^(P21/12) -> 0.060066915 | S21: =+_xlfn.XLOOKUP($P21,Užstatai!$L$3:$IR$3,Užstatai!$L$1:$IR$1,"bla",0,1) -> 0 | T21: =1+MAX(0.0362*P21/12-0.1052/12,0)+0.005 -> 1.0505333 | U21: =+T21 -> 1.0505333 | W21: =ROUND(M21*(Q21-Q20),2) -> 324.03 | X21: =ROUND(N21*$Y$2/12*(1-Q21),2) -> 324.28 | Y21: =+IF(Z21>=$W$1,1,0) -> 0 | Z21: =SUM($N$4:$N$183)*AA21/12-SUMPRODUCT($N$4:$N$183,$Q$4:$Q$183)*AA21/12 -> 961.91763 | AA21: =+AA20+0.0001 -> 0.0017 | AC21: 4 | AD21: 0.088235294 | AH21: 18 | AI21: 0.065966204 | AJ21: Aukšta (įsipareigojimų nevykdymo tikimybė per ateinančius 12-ka mėnesių didesnė nei 4,84%)
E22: 1 | F22: =+IF(OR(E22<=$F$5,E22>$F$4),0,$F$7/($F$4-$F$5)) -> 0 | M22: =ROUND(MAX((N22-S22)*_xlfn.XLOOKUP($P22,Užstatai!$L$3:$IR$3,Užstatai!$L$33:$IR$33,"bla",0,1),0)+N22*(1-_xlfn.XLOOKUP($P22,Užstatai!$L$3:$IR$3,Užstatai!$L$33:$IR$33,"bla",0,1)),2) -> 100000 | N22: =IF(MAX(ROUND(N21-O21,2),0)<0.5,0,MAX(ROUND(N21-O21,2),0)) -> 100000 | O22: =ROUND(IF($F$21>0,F40,IF(P22<=$F$5,0,IF(P22>$F$4,0,1/($F$4-$F$5)*($F$7)))),2) -> 0 | P22: =+P21+1 -> 19 | Q22: =1-(1-$B$3)^(P22/12) -> 0.063296114 | S22: =+_xlfn.XLOOKUP($P22,Užstatai!$L$3:$IR$3,Užstatai!$L$1:$IR$1,"bla",0,1) -> 0 | T22: =1+MAX(0.0362*P22/12-0.1052/12,0)+0.006 -> 1.05455 | U22: =+T22 -> 1.05455 | W22: =ROUND(M22*(Q22-Q21),2) -> 322.92 | X22: =ROUND(N22*$Y$2/12*(1-Q22),2) -> 323.16 | Y22: =+IF(Z22>=$W$1,1,0) -> 0 | Z22: =SUM($N$4:$N$183)*AA22/12-SUMPRODUCT($N$4:$N$183,$Q$4:$Q$183)*AA22/12 -> 1018.501 | AA22: =+AA21+0.0001 -> 0.0018 | AC22: 5 | AD22: 0.10047231 | AH22: 19 | AI22: 0.081397243 | AJ22: Aukšta (įsipareigojimų nevykdymo tikimybė per ateinančius 12-ka mėnesių didesnė nei 4,84%)
E23: =+E22+1 -> 2 | F23: =+IF(OR(E23<=$F$5,E23>$F$4),0,$F$7/($F$4-$F$5)) -> 0 | M23: =ROUND(MAX((N23-S23)*_xlfn.XLOOKUP($P23,Užstatai!$L$3:$IR$3,Užstatai!$L$33:$IR$33,"bla",0,1),0)+N23*(1-_xlfn.XLOOKUP($P23,Užstatai!$L$3:$IR$3,Užstatai!$L$33:$IR$33,"bla",0,1)),2) -> 100000 | N23: =IF(MAX(ROUND(N22-O22,2),0)<0.5,0,MAX(ROUND(N22-O22,2),0)) -> 100000 | O23: =ROUND(IF($F$21>0,F41,IF(P23<=$F$5,0,IF(P23>$F$4,0,1/($F$4-$F$5)*($F$7)))),2) -> 0 | P23: =+P22+1 -> 20 | Q23: =1-(1-$B$3)^(P23/12) -> 0.066514218 | S23: =+_xlfn.XLOOKUP($P23,Užstatai!$L$3:$IR$3,Užstatai!$L$1:$IR$1,"bla",0,1) -> 0 | T23: =1+MAX(0.0362*P23/12-0.1052/12,0)+0.005 -> 1.0565667 | U23: =+T23 -> 1.0565667 | W23: =ROUND(M23*(Q23-Q22),2) -> 321.81 | X23: =ROUND(N23*$Y$2/12*(1-Q23),2) -> 322.05 | Y23: =+IF(Z23>=$W$1,1,0) -> 0 | Z23: =SUM($N$4:$N$183)*AA23/12-SUMPRODUCT($N$4:$N$183,$Q$4:$Q$183)*AA23/12 -> 1075.0844 | AA23: =+AA22+0.0001 -> 0.0019 | AC23: 6 | AD23: 0.085227273 | AH23: 20 | AI23: 0.14741414 | AJ23: Aukšta (įsipareigojimų nevykdymo tikimybė per ateinančius 12-ka mėnesių didesnė nei 4,84%)
E24: =+E23+1 -> 3 | F24: =+IF(OR(E24<=$F$5,E24>$F$4),0,$F$7/($F$4-$F$5)) -> 0 | M24: =ROUND(MAX((N24-S24)*_xlfn.XLOOKUP($P24,Užstatai!$L$3:$IR$3,Užstatai!$L$33:$IR$33,"bla",0,1),0)+N24*(1-_xlfn.XLOOKUP($P24,Užstatai!$L$3:$IR$3,Užstatai!$L$33:$IR$33,"bla",0,1)),2) -> 100000 | N24: =IF(MAX(ROUND(N23-O23,2),0)<0.5,0,MAX(ROUND(N23-O23,2),0)) -> 100000 | O24: =ROUND(IF($F$21>0,F42,IF(P24<=$F$5,0,IF(P24>$F$4,0,1/($F$4-$F$5)*($F$7)))),2) -> 0 | P24: =+P23+1 -> 21 | Q24: =1-(1-$B$3)^(P24/12) -> 0.069721267 | S24: =+_xlfn.XLOOKUP($P24,Užstatai!$L$3:$IR$3,Užstatai!$L$1:$IR$1,"bla",0,1) -> 0 | T24: =1+MAX(0.0362*P24/12-0.1052/12,0)+0.004 -> 1.0585833 | U24: =+T24 -> 1.0585833 | W24: =ROUND(M24*(Q24-Q23),2) -> 320.7 | X24: =ROUND(N24*$Y$2/12*(1-Q24),2) -> 320.95 | Y24: =+IF(Z24>=$W$1,1,0) -> 0 | Z24: =SUM($N$4:$N$183)*AA24/12-SUMPRODUCT($N$4:$N$183,$Q$4:$Q$183)*AA24/12 -> 1131.6678 | AA24: =+AA23+0.0001 -> 0.002 | AC24: 7 | AD24: 0.15957447 | AH24: 21 | AI24: 0.2472168
E25: =+E24+1 -> 4 | F25: =+IF(OR(E25<=$F$5,E25>$F$4),0,$F$7/($F$4-$F$5)) -> 0 | M25: =ROUND(MAX((N25-S25)*_xlfn.XLOOKUP($P25,Užstatai!$L$3:$IR$3,Užstatai!$L$33:$IR$33,"bla",0,1),0)+N25*(1-_xlfn.XLOOKUP($P25,Užstatai!$L$3:$IR$3,Užstatai!$L$33:$IR$33,"bla",0,1)),2) -> 100000 | N25: =IF(MAX(ROUND(N24-O24,2),0)<0.5,0,MAX(ROUND(N24-O24,2),0)) -> 100000 | O25: =ROUND(IF($F$21>0,F43,IF(P25<=$F$5,0,IF(P25>$F$4,0,1/($F$4-$F$5)*($F$7)))),2) -> 0 | P25: =+P24+1 -> 22 | Q25: =1-(1-$B$3)^(P25/12) -> 0.072917297 | S25: =+_xlfn.XLOOKUP($P25,Užstatai!$L$3:$IR$3,Užstatai!$L$1:$IR$1,"bla",0,1) -> 0 | T25: =1+MAX(0.0362*P25/12-0.1052/12,0)+0.005 -> 1.0626 | U25: =+T25 -> 1.0626 | W25: =ROUND(M25*(Q25-Q24),2) -> 319.6 | X25: =ROUND(N25*$Y$2/12*(1-Q25),2) -> 319.84 | Y25: =+IF(Z25>=$W$1,1,0) -> 0 | Z25: =SUM($N$4:$N$183)*AA25/12-SUMPRODUCT($N$4:$N$183,$Q$4:$Q$183)*AA25/12 -> 1188.2512 | AA25: =+AA24+0.0001 -> 0.0021 | AC25: 8 | AD25: 0.16842105 | AH25: 22 | AI25: 0.30406417
E26: =+E25+1 -> 5 | F26: =+IF(OR(E26<=$F$5,E26>$F$4),0,$F$7/($F$4-$F$5)) -> 0 | M26: =ROUND(MAX((N26-S26)*_xlfn.XLOOKUP($P26,Užstatai!$L$3:$IR$3,Užstatai!$L$33:$IR$33,"bla",0,1),0)+N26*(1-_xlfn.XLOOKUP($P26,Užstatai!$L$3:$IR$3,Užstatai!$L$33:$IR$33,"bla",0,1)),2) -> 100000 | N26: =IF(MAX(ROUND(N25-O25,2),0)<0.5,0,MAX(ROUND(N25-O25,2),0)) -> 100000 | O26: =ROUND(IF($F$21>0,F44,IF(P26<=$F$5,0,IF(P26>$F$4,0,1/($F$4-$F$5)*($F$7)))),2) -> 0 | P26: =+P25+1 -> 23 | Q26: =1-(1-$B$3)^(P26/12) -> 0.076102348 | S26: =+_xlfn.XLOOKUP($P26,Užstatai!$L$3:$IR$3,Užstatai!$L$1:$IR$1,"bla",0,1) -> 0 | T26: =1+MAX(0.0362*P26/12-0.1052/12,0)+0.002 -> 1.0626167 | U26: =+T26 -> 1.0626167 | W26: =ROUND(M26*(Q26-Q25),2) -> 318.51 | X26: =ROUND(N26*$Y$2/12*(1-Q26),2) -> 318.74 | Y26: =+IF(Z26>=$W$1,1,0) -> 0 | Z26: =SUM($N$4:$N$183)*AA26/12-SUMPRODUCT($N$4:$N$183,$Q$4:$Q$183)*AA26/12 -> 1244.8346 | AA26: =+AA25+0.0001 -> 0.0022 | AC26: 9 | AD26: 0.13636364 | AH26: 24 | AI26: 0.5017
E27: =+E26+1 -> 6 | F27: =+IF(OR(E27<=$F$5,E27>$F$4),0,$F$7/($F$4-$F$5)) -> 0 | M27: =ROUND(MAX((N27-S27)*_xlfn.XLOOKUP($P27,Užstatai!$L$3:$IR$3,Užstatai!$L$33:$IR$33,"bla",0,1),0)+N27*(1-_xlfn.XLOOKUP($P27,Užstatai!$L$3:$IR$3,Užstatai!$L$33:$IR$33,"bla",0,1)),2) -> 100000 | N27: =IF(MAX(ROUND(N26-O26,2),0)<0.5,0,MAX(ROUND(N26-O26,2),0)) -> 100000 | O27: =ROUND(IF($F$21>0,F45,IF(P27<=$F$5,0,IF(P27>$F$4,0,1/($F$4-$F$5)*($F$7)))),2) -> 0 | P27: =+P26+1 -> 24 | Q27: =1-(1-$B$3)^(P27/12) -> 0.079276455 | S27: =+_xlfn.XLOOKUP($P27,Užstatai!$L$3:$IR$3,Užstatai!$L$1:$IR$1,"bla",0,1) -> 0 | T27: =1+MAX(0.0362*P27/12-0.1052/12,0) -> 1.0636333 | U27: =+T27 -> 1.0636333 | W27: =ROUND(M27*(Q27-Q26),2) -> 317.41 | X27: =ROUND(N27*$Y$2/12*(1-Q27),2) -> 317.65 | Y27: =+IF(Z27>=$W$1,1,0) -> 0 | Z27: =SUM($N$4:$N$183)*AA27/12-SUMPRODUCT($N$4:$N$183,$Q$4:$Q$183)*AA27/12 -> 1301.418 | AA27: =+AA26+0.0001 -> 0.0023 | AC27: 10 | AD27: 0.19678715
E28: =+E27+1 -> 7 | F28: =+IF(OR(E28<=$F$5,E28>$F$4),0,$F$7/($F$4-$F$5)) -> 0 | M28: =ROUND(MAX((N28-S28)*_xlfn.XLOOKUP($P28,Užstatai!$L$3:$IR$3,Užstatai!$L$33:$IR$33,"bla",0,1),0)+N28*(1-_xlfn.XLOOKUP($P28,Užstatai!$L$3:$IR$3,Užstatai!$L$33:$IR$33,"bla",0,1)),2) -> 100000 | N28: =IF(MAX(ROUND(N27-O27,2),0)<0.5,0,MAX(ROUND(N27-O27,2),0)) -> 100000 | O28: =ROUND(IF($F$21>0,F46,IF(P28<=$F$5,0,IF(P28>$F$4,0,1/($F$4-$F$5)*($F$7)))),2) -> 0 | P28: =+P27+1 -> 25 | Q28: =1-(1-$B$3)^(P28/12) -> 0.082439659 | R28: =IF(P28>$F$4,0,((1-$B$3)^ROUNDUP(P27/12,0))*$B$3) -> 0.03724934 | S28: =+_xlfn.XLOOKUP($P28,Užstatai!$L$3:$IR$3,Užstatai!$L$1:$IR$1,"bla",0,1) -> 0 | T28: =1+MAX(0.0362*P28/12-0.1052/12,0) -> 1.06665 | U28: =+T28 -> 1.06665 | W28: =ROUND(M28*(Q28-Q27),2) -> 316.32 | X28: =ROUND(N28*$Y$2/12*(1-Q28),2) -> 316.56 | Y28: =+IF(Z28>=$W$1,1,0) -> 0 | Z28: =SUM($N$4:$N$183)*AA28/12-SUMPRODUCT($N$4:$N$183,$Q$4:$Q$183)*AA28/12 -> 1358.0014 | AA28: =+AA27+0.0001 -> 0.0024 | AC28: 11 | AD28: 0.2
E29: =+E28+1 -> 8 | F29: =+IF(OR(E29<=$F$5,E29>$F$4),0,$F$7/($F$4-$F$5)) -> 0 | M29: =ROUND(MAX((N29-S29)*_xlfn.XLOOKUP($P29,Užstatai!$L$3:$IR$3,Užstatai!$L$33:$IR$33,"bla",0,1),0)+N29*(1-_xlfn.XLOOKUP($P29,Užstatai!$L$3:$IR$3,Užstatai!$L$33:$IR$33,"bla",0,1)),2) -> 100000 | N29: =IF(MAX(ROUND(N28-O28,2),0)<0.5,0,MAX(ROUND(N28-O28,2),0)) -> 100000 | O29: =ROUND(IF($F$21>0,F47,IF(P29<=$F$5,0,IF(P29>$F$4,0,1/($F$4-$F$5)*($F$7)))),2) -> 0 | P29: =+P28+1 -> 26 | Q29: =1-(1-$B$3)^(P29/12) -> 0.085591994 | S29: =+_xlfn.XLOOKUP($P29,Užstatai!$L$3:$IR$3,Užstatai!$L$1:$IR$1,"bla",0,1) -> 0 | T29: =1+MAX(0.0362*P29/12-0.1052/12,0) -> 1.0696667 | U29: =+T29 -> 1.0696667 | W29: =ROUND(M29*(Q29-Q28),2) -> 315.23 | X29: =ROUND(N29*$Y$2/12*(1-Q29),2) -> 315.47 | Y29: =+IF(Z29>=$W$1,1,0) -> 0 | Z29: =SUM($N$4:$N$183)*AA29/12-SUMPRODUCT($N$4:$N$183,$Q$4:$Q$183)*AA29/12 -> 1414.5848 | AA29: =+AA28+0.0001 -> 0.0025 | AC29: 12 | AD29: 0.35
E30: =+E29+1 -> 9 | F30: =+IF(OR(E30<=$F$5,E30>$F$4),0,$F$7/($F$4-$F$5)) -> 0 | M30: =ROUND(MAX((N30-S30)*_xlfn.XLOOKUP($P30,Užstatai!$L$3:$IR$3,Užstatai!$L$33:$IR$33,"bla",0,1),0)+N30*(1-_xlfn.XLOOKUP($P30,Užstatai!$L$3:$IR$3,Užstatai!$L$33:$IR$33,"bla",0,1)),2) -> 100000 | N30: =IF(MAX(ROUND(N29-O29,2),0)<0.5,0,MAX(ROUND(N29-O29,2),0)) -> 100000 | O30: =ROUND(IF($F$21>0,F48,IF(P30<=$F$5,0,IF(P30>$F$4,0,1/($F$4-$F$5)*($F$7)))),2) -> 0 | P30: =+P29+1 -> 27 | Q30: =1-(1-$B$3)^(P30/12) -> 0.0887335 | S30: =+_xlfn.XLOOKUP($P30,Užstatai!$L$3:$IR$3,Užstatai!$L$1:$IR$1,"bla",0,1) -> 0 | T30: =1+MAX(0.0362*P30/12-0.1052/12,0) -> 1.0726833 | U30: =+T30 -> 1.0726833 | W30: =ROUND(M30*(Q30-Q29),2) -> 314.15 | X30: =ROUND(N30*$Y$2/12*(1-Q30),2) -> 314.39 | Y30: =+IF(Z30>=$W$1,1,0) -> 0 | Z30: =SUM($N$4:$N$183)*AA30/12-SUMPRODUCT($N$4:$N$183,$Q$4:$Q$183)*AA30/12 -> 1471.1681 | AA30: =+AA29+0.0001 -> 0.0026 | AC30: 13 | AD30: 0.5
E31: =+E30+1 -> 10 | F31: =+IF(OR(E31<=$F$5,E31>$F$4),0,$F$7/($F$4-$F$5)) -> 0 | M31: =ROUND(MAX((N31-S31)*_xlfn.XLOOKUP($P31,Užstatai!$L$3:$IR$3,Užstatai!$L$33:$IR$33,"bla",0,1),0)+N31*(1-_xlfn.XLOOKUP($P31,Užstatai!$L$3:$IR$3,Užstatai!$L$33:$IR$33,"bla",0,1)),2) -> 100000 | N31: =IF(MAX(ROUND(N30-O30,2),0)<0.5,0,MAX(ROUND(N30-O30,2),0)) -> 100000 | O31: =ROUND(IF($F$21>0,F49,IF(P31<=$F$5,0,IF(P31>$F$4,0,1/($F$4-$F$5)*($F$7)))),2) -> 0 | P31: =+P30+1 -> 28 | Q31: =1-(1-$B$3)^(P31/12) -> 0.091864213 | S31: =+_xlfn.XLOOKUP($P31,Užstatai!$L$3:$IR$3,Užstatai!$L$1:$IR$1,"bla",0,1) -> 0 | T31: =1+MAX(0.0362*P31/12-0.1052/12,0) -> 1.0757 | U31: =+T31 -> 1.0757 | W31: =ROUND(M31*(Q31-Q30),2) -> 313.07 | X31: =ROUND(N31*$Y$2/12*(1-Q31),2) -> 313.31 | Y31: =+IF(Z31>=$W$1,1,0) -> 0 | Z31: =SUM($N$4:$N$183)*AA31/12-SUMPRODUCT($N$4:$N$183,$Q$4:$Q$183)*AA31/12 -> 1527.7515 | AA31: =+AA30+0.0001 -> 0.0027 | AC31: 14 | AD31: 0.66666667
E32: =+E31+1 -> 11 | F32: =+IF(OR(E32<=$F$5,E32>$F$4),0,$F$7/($F$4-$F$5)) -> 0 | M32: =ROUND(MAX((N32-S32)*_xlfn.XLOOKUP($P32,Užstatai!$L$3:$IR$3,Užstatai!$L$33:$IR$33,"bla",0,1),0)+N32*(1-_xlfn.XLOOKUP($P32,Užstatai!$L$3:$IR$3,Užstatai!$L$33:$IR$33,"bla",0,1)),2) -> 100000 | N32: =IF(MAX(ROUND(N31-O31,2),0)<0.5,0,MAX(ROUND(N31-O31,2),0)) -> 100000 | O32: =ROUND(IF($F$21>0,F50,IF(P32<=$F$5,0,IF(P32>$F$4,0,1/($F$4-$F$5)*($F$7)))),2) -> 0 | P32: =+P31+1 -> 29 | Q32: =1-(1-$B$3)^(P32/12) -> 0.09498417 | S32: =+_xlfn.XLOOKUP($P32,Užstatai!$L$3:$IR$3,Užstatai!$L$1:$IR$1,"bla",0,1) -> 0 | T32: =1+MAX(0.0362*P32/12-0.1052/12,0) -> 1.0787167 | U32: =+T32 -> 1.0787167 | W32: =ROUND(M32*(Q32-Q31),2) -> 312 | X32: =ROUND(N32*$Y$2/12*(1-Q32),2) -> 312.23 | Y32: =+IF(Z32>=$W$1,1,0) -> 0 | Z32: =SUM($N$4:$N$183)*AA32/12-SUMPRODUCT($N$4:$N$183,$Q$4:$Q$183)*AA32/12 -> 1584.3349 | AA32: =+AA31+0.0001 -> 0.0028
