Workbook

Sheet Turtas
A1: Kliento pavadinimas
A3: Ilgalaikis materialus turtas | G3: =Finansai!G2 -> 45382
A4: Eil. Nr. | B4: Materialus turtas | D4: Įsigijimo metai | F4: Balansinė turto vertė, EUR | H4: Komentaras
A5: 1
A6: 2
A7: 3
A8: 4
A9: 5
A10: 6
A11: 7
A12: 8
A13: 9
A14: 10
B15: Viso: | F15: =SUM(F5:F14) -> 0
A18: Atsargos
A19: Eil. Nr. | B19: Atsargų rūšis | C19: Kiekis (EUR) | D19: Iš jų įsigytos prieš... | H19: Komentaras
D20: 1-30 d. | E20: 31-180 d. | F20: 181-360 d. | G20: >360 d.
A21: 1
A22: 2
A23: 3
A24: 4
A25: 5
A26: 6
A27: 7
A28: 8
A29: 9
A30: 10
B31: Viso: | C31: =SUM(C21:C30) -> 0 | D31: =SUM(D21:D30) -> 0 | E31: =SUM(E21:E30) -> 0 | F31: =SUM(F21:F30) -> 0 | G31: =SUM(G21:G30) -> 0
C32: =+C31/C31 -> #DIV/0! | D32: =+D31/$C$6 -> #DIV/0! | E32: =+E31/$C$6 -> #DIV/0! | F32: =+F31/$C$6 -> #DIV/0! | G32: =+G31/$C$6 -> #DIV/0!
A35: Sumokėti avansai
A36: Eil. Nr. | B36: Avanso gavėjas | D36: Suma, EUR | F36: Apmokėjimo data | H36: Komentaras
A37: 1
A38: 2
A39: 3
A40: 4
A41: 5
A42: 6
A43: 7
A44: 8
A45: 9
...

Sheet Isipareigojimai
A1: Kliento pavadinimas | C1: =Turtas!C1 -> 0
A3: Turimų finansinių įsipareigojimų detali informacija: | E3: =Finansai!G2 -> 45382
A4: Eil. Nr. | B4: SKOLINTOJAS (Finansų/kredito įstaiga, fiziniai/jurdiniai asmenys ir kt.) | C4: Paskirtis (apyvartinė paskola, investicinė paskola, faktoringas, ...) | D4: Galutinis grąžinimo terminas (YYYY-MM-DD) | E4: Įsipareigojimo likutis (EUR) jei overdraftas, kredito linija, faktoringas tai nurodykite turimo limito sumą | F4: Palūkanų norma (%) | H4: Detalizuokite atskirose eilutėse mokėtinas palūkanas ir paskolos grąžinimus
H5: =TEXT(Prognozes!C4, "YYYY") -> 2024 | I5: =H5+1 -> 2025 | J5: =I5+1 -> 2026 | K5: =J5+1 -> 2027 | L5: =K5+1 -> 2028 | M5: =L5+1 -> 2029 | N5: =M5+1 -> 2030
A7: 1 | G7: Paskola
G8: Palūkanos
A9: 2 | G9: Paskola
G10: Palūkanos
A11: 3 | G11: Paskola
G12: Palūkanos
A13: 4 | G13: Paskola
G14: Palūkanos
A15: 5 | G15: Paskola
G16: Palūkanos
A17: 6 | G17: Paskola
G18: Palūkanos
A19: 7 | G19: Paskola
G20: Palūkanos
A21: 8 | G21: Paskola
G22: Palūkanos
A23: 9 | G23: Paskola
G24: Palūkanos
A25: 10 | G25: Paskola
G26: Palūkanos
A27: Viso: | F27: Viso paskolų | H27: =H7+H9+H11+H13+H15+H17+H19+H21+H23+H25 -> 0 | I27: =I7+I9+I11+I13+I15+I17+I19+I21+I23+I25 -> 0 | J27: =J7+J9+J11+J13+J15+J17+J19+J21+J23+J25 -> 0 | K27: =K7+K9+K11+K13+K15+K17+K19+K21+K23+K25 -> 0 | L27: =L7+L9+L11+L13+L15+L17+L19+L21+L23+L25 -> 0 | M27: =M7+M9+M11+M13+M15+M17+M19+M21+M23+M25 -> 0 | N27: =N7+N9+N11+N13+N15+N17+N19+N21+N23+N25 -> 0
F28: Viso palūkanų | H28: =H8+H10+H12+H14+H16+H18+H20+H22+H24+H26 -> 0 | I28: =I8+I10+I12+I14+I16+I18+I20+I22+I24+I26 -> 0 | J28: =J8+J10+J12+J14+J16+J18+J20+J22+J24+J26 -> 0 | K28: =K8+K10+K12+K14+K16+K18+K20+K22+K24+K26 -> 0 | L28: =L8+L10+L12+L14+L16+L18+L20+L22+L24+L26 -> 0 | M28: =M8+M10+M12+M14+M16+M18+M20+M22+M24+M26 -> 0 | N28: =N8+N10+N12+N14+N16+N18+N20+N22+N24+N26 -> 0
A30: Nebalansiniai įsipareigojimai
A31: Eil. Nr. | B31: Kreditorius | D31: Paskirtis/tikslas | F31: Palūkanų norma | H31: Suma, EUR | J31: Terminas | L31: Komentaras
A32: 1
A33: 2
A34: 3
A35: 4
A36: 5
A37: 6
A38: 7
A39: 8
A40: 9
A41: 10
B42: Viso: | H42: =SUM(H32:I41) -> 0
A44: Skolos tiekėjams
...

Sheet Prognozes
A1: Kliento pavadinimas | C1: =Turtas!C1 -> 0
C3: Faktiniai duomenys/ Prognoziniai duomenys
C4: 45657 | D4: =EDATE(C4,12) -> 46022 | E4: =EDATE(D4,12) -> 46387 | F4: =EDATE(E4,12) -> 46752 | G4: =EDATE(F4,12) -> 47118 | H4: =EDATE(G4,12) -> 47483 | I4: =EDATE(H4,12) -> 47848 | J4: =EDATE(I4,12) -> 48213 | K4: =EDATE(J4,12) -> 48579 | L4: =EDATE(K4,12) -> 48944
A5: Pardavimo pajamos | C5: =Finansai!E98 -> 0 | D5: =Finansai!F98 -> 0
A6: Savikaina | C6: =-1*Finansai!E99 -> 0 | D6: =-1*Finansai!F99 -> 0
A7: Pardavimo sąnaudos ir Bendrosios ir administracinės sąnaudos | C7: =-1*(Finansai!E105+Finansai!E106) -> 0 | D7: =-1*(Finansai!F105+Finansai!F106) -> 0
A8: Pelnas (nuostoliai) prieš apmokestinimą | C8: =+C5-C6-C7 -> 0 | D8: =+D5-D6-D7 -> 0 | E8: =+E5-E6-E7 -> 0 | F8: =+F5-F6-F7 -> 0 | G8: =+G5-G6-G7 -> 0 | H8: =+H5-H6-H7 -> 0 | I8: =+I5-I6-I7 -> 0 | J8: =+J5-J6-J7 -> 0 | ... L8: =+L5-L6-L7 -> 0
A9: Pelno (nuostoliai) prieš apmokestinimą marža | C9: =+C8/C5 -> #DIV/0! | D9: =+D8/D5 -> #DIV/0! | E9: =+E8/E5 -> #DIV/0! | F9: =+F8/F5 -> #DIV/0! | G9: =+G8/G5 -> #DIV/0! | H9: =+H8/H5 -> #DIV/0! | I9: =+I8/I5 -> #DIV/0! | J9: =+J8/J5 -> #DIV/0! | ... L9: =+L8/L5 -> #DIV/0!
A10: Nusidėvėjimo sąnaudos
A11: EBITDA | C11: =+C8+C10 -> 0 | D11: =+D8+D10 -> 0 | E11: =+E8+E10 -> 0 | F11: =+F8+F10 -> 0 | G11: =+G8+G10 -> 0 | H11: =+H8+H10 -> 0 | I11: =+I8+I10 -> 0 | J11: =+J8+J10 -> 0 | ... L11: =+L8+L10 -> 0
A13: Prognozių prielaidos:
A14: Nr. | B14: Prielaidos
A15: 1
A16: 2
A17: 3
A18: 4
A19: 5

Sheet Finansai
A1: Kliento pavadinimas | D1: =Turtas!C1 -> 0
B2: TURTAS | E2: 44926 | F2: 45291 | G2: 45382 | H2: 45016
A3: A. | B3: ILGALAIKIS TURTAS | E3: =SUM(E4+E11+E21+E31) -> 0 | F3: =SUM(F4+F11+F21+F31) -> 0 | G3: =SUM(G4+G11+G21+G31) -> 0 | H3: =SUM(H4+H11+H21+H31) -> 0
A4: 1. | B4: NEMATERIALUSIS TURTAS | E4: =SUM(E5:E10) -> 0 | F4: =SUM(F5:F10) -> 0 | G4: =SUM(G5:G10) -> 0 | H4: =SUM(H5:H10) -> 0
A5: 1.1. | B5: Plėtros darbai
A6: 1.2. | B6: Prestižas
A7: 1.3. | B7: Programinė įranga
A8: 1.4. | B8: Koncesijos, patentai, licencijos, prekių ženklai ir panašios teisės
A9: 1.5. | B9: Kitas nematerialusis turtas
A10: 1.6. | B10: Sumokėti avansai
A11: 2. | B11: MATERIALUSIS TURTAS | E11: =SUM(E12:E17,E20) -> 0 | F11: =SUM(F12:F17,F20) -> 0 | G11: =SUM(G12:G17,G20) -> 0 | H11: =SUM(H12:H17,H20) -> 0
A12: 2.1. | B12: Žemė
A13: 2.2. | B13: Pastatai ir statiniai
A14: 2.3. | B14: Mašinos ir įranga
A15: 2.4. | B15: Transporto priemonės
A16: 2.5. | B16: Kiti įrenginiai, prietaisai ir įrankiai
A17: 2.6. | B17: Investicinis turtas | E17: =E18+E19 -> 0 | F17: =F18+F19 -> 0 | G17: =G18+G19 -> 0 | H17: =H18+H19 -> 0
A18: 2.6.1. | B18: Žemė
A19: 2.6.2. | B19: Pastatai
A20: 2.7. | B20: Sumokėti avansai ir vykdomi materialio turto statybos (gamybos) darbai
A21: 3. | B21: FINANSINIS TURTAS | E21: =SUM(E22:E30) -> 0 | F21: =SUM(F22:F30) -> 0 | G21: =SUM(G22:G30) -> 0 | H21: =SUM(H22:H30) -> 0
A22: 3.1. | B22: Įmonių grupės įmonių akcijos
A23: 3.2. | B23: Paskolos įmonių grupės įmonėms
A24: 3.3. | B24: Iš įmonių grupės įmonių gautinos sumos
A25: 3.4. | B25: Asocijuotųjų įmonių akcijos
A26: 3.5. | B26: Paskolos asocijuotosioms įmonėms
A27: 3.6. | B27: Iš asocijuotųjų įmonių gautinos sumos
A28: 3.7. | B28: Ilgalaikės investicijos
A29: 3.8. | B29: Po vienų metų gautinos sumos
A30: 3.9. | B30: Kitas finansinis turtas
A31: 4. | B31: KITAS ILGALAIKIS TURTAS | E31: =E32+E33+E34 -> 0 | F31: =F32+F33+F34 -> 0 | G31: =G32+G33+G34 -> 0 | H31: =H32+H33+H34 -> 0
A32: 4.1. | B32: Atidėtojo pelno mokesčio turtas
A33: 4.2. | B33: Biologinis turtas
A34: 4.3. | B34: Kitas turtas
A35: B. | B35: TRUMPALAIKIS TURTAS | E35: =SUM(E36+E44+E49+E52) -> 0 | F35: =SUM(F36+F44+F49+F52) -> 0 | G35: =SUM(G36+G44+G49+G52) -> 0 | H35: =SUM(H36+H44+H49+H52) -> 0
A36: 1. | B36: ATSARGOS | E36: =SUM(E37:E43) -> 0 | F36: =SUM(F37:F43) -> 0 | G36: =SUM(G37:G43) -> 0 | H36: =SUM(H37:H43) -> 0
A37: 1.1. | B37: Žaliavos, medžiagos ir komplektavimo detalės
A38: 1.2. | B38: Nebaigta produkcija ir vykdomi darbai
A39: 1.3. | B39: Produkcija
A40: 1.4. | B40: Pirktos prekės, skirtos perparduoti
...

Sheet Kita informacija
A1: Kliento pavadinimas | C1: =IF([1]Turtas!C1="","",[1]Turtas!C1)
A3: 1. Informaciją apie didžiausius tiekėjus/ pirkėjus | E3: data kuriai teikiami duomenys
A4: Eil. Nr. | B4: Tiekėjo pavadinimas/ šalis | C4: Dalis tiekime % | D4: Apmokėjimo terminai (atidėjimas X d., išankstinis apmokėjimas, kt.) | E4: Pirkėjo pavadinimas/ šalis | F4: Dalis pardavimuose % | G4: Apmokėjimo terminai (atidėjimas X d., išankstinis apmokėjimas, kt.)
A5: 1
A6: 2
A7: 3
A8: 4
A9: 5
A11: 3. Veiklos vieta: adresas, nuosavos patalpos, nuomojamos (jei nuomojamos nurodykite nuomos sąlygas) ir kt. (nepildoma, jei ši informacija pateikta verslo plane)
A14: 4. Konkurencinė aplinka, konkurentai (nurodykite mažiausiai 3) (nepildoma, jei ši informacija pateikta verslo plane)
A17: 5. Siūlomos užtikrinimo priemonės
A20: 2. Paskolos poreikio pagrindimas
