Workbook

Sheet Ar patiria sunkumu
F1: Sutarties 5 priedas
A3: Pareiškėjo pavadinimas | C3: ='Greitasis vertinimas'!B10 -> 0
A5: Pasirinkite datą, kuriai vertinsite, ar Pareiškėjas patiria finansinių sunkumų*:
A6: ="Vedami duomenys iš "&TEXT(F5,"yyyy-mm-dd")&" balanso" -> Vedami duomenys iš 1900-01-00 balanso
A7: Eil. Nr. | B7: Įmonės pavadinimas | C7: Rezervai (įskaitant ir perkainojimo rezervą) | D7: Nepaskirs-tytas pelnas (nuostolis (įvedama su "-" ženklu) | E7: Įstatinis kapitalas (įskaitant ir akcijų priedus) | F7: Rezervai +- sukauptas pelnas/ nuostoliai | G7: 1/2 įstatinio kapitalo
A8: 1 | B8: Pareiškėjas (jeigu Pareiškėjas yra Verslininkas, šioje eilutėje skaičių neveskite) | F8: =C8+D8 -> 0 | G8: =E8/2 -> 0
A9: 2 | B9: Susijusi įmonė 1 | F9: =C9+D9 -> 0 | G9: =E9/2 -> 0
A10: 3 | B10: Susijusi įmonė 2 | F10: =C10+D10 -> 0 | G10: =E10/2 -> 0
A11: 4 | B11: Susijusi įmonė 3 | F11: =C11+D11 -> 0 | G11: =E11/2 -> 0
A12: 5 | B12: Susijusi įmonė 4 | F12: =C12+D12 -> 0 | G12: =E12/2 -> 0
A13: 6 | B13: Susijusi įmonė 5 | F13: =C13+D13 -> 0 | G13: =E13/2 -> 0
A14: 7 | B14: Susijusi įmonė 6 | F14: =C14+D14 -> 0 | G14: =E14/2 -> 0
A15: 8 | B15: Susijusi įmonė 7 | F15: =C15+D15 -> 0 | G15: =E15/2 -> 0
A16: 9 | B16: Susijusi įmonė 8 | F16: =C16+D16 -> 0 | G16: =E16/2 -> 0
A17: <…> | B17: <...> | F17: =C17+D17 -> 0 | G17: =E17/2 -> 0
A18: n | B18: Susijusi įmonė n | F18: =C18+D18 -> 0 | G18: =E18/2 -> 0
A19: Iš viso: | F19: =SUM(F8:F18) -> 0 | G19: =SUM(G8:G18) -> 0
A21: 1.1. | B21: Ar pareiškėjas pagal 2019 metų FA duomenis patyrė sunkumų? | F21: =IF((AND(F8<0,ABS(F8)>G8)),"Taip","Ne") -> Ne
A22: 1.2. | B22: Ar ekonominis vienetas pagal 2019 metų FA duomenis patyrė sunkumų? | F22: =IF((AND(F19<0,ABS(F19)>G19)),"Taip","Ne") -> Ne
A25: Jeigu "Rezervai +- sukauptas pelnas/nuostoliai" gaunama teigiama suma - sunkumų nėra Jeigu "Rezervai +- sukauptas pelnas/nuostoliai" gaunama neigiama suma, kurios absoliutus skaičius (modulis) neviršija "1/2 įstatinio kapitalo" - sunkumų nėra, pvz. "Rezervai +- sukauptas pelnas/nuostoliai" -10.000 Eur, "1/2 įstatinio kapitalo" 15.000 Eur Jeigu "Rezervai +- sukauptas pelnas/nuostoliai" gaunama neigiama suma, kurios absoliutus skaičius (modulis) viršija "1/2 įstatinio kapitalo" - sunkumai yra, pvz. "Rezervai +- sukauptas pelnas/nuostoliai" -10.000 Eur, "1/2 įstatinio kapitalo" 2.000 Eur
A27: *Sunkumų patyrimo vertinimas gali būti atliekamas pagal: - 2019 m. gruodžio 31 d. duomenis arba - 2020 m. tarpinės finansinės atskaitomybės už paskutinį praėjusį ketvirtį arba mėnesį, ėjusį prieš paraiškos pateikimą, duomenis, jei paskolos gavėjas buvo patiriantis sunkumų 2019-12-31, bet siekia įrodyti, kad paraiškos pateikimo metu jis nėra sunkumų patiriantis. ^iuo atveju, jei per laikotarpį nuo 2020 sausio 1 d. iki paraiškos pateikimo dienos įvyko nuosavybės struktūros (kapitalo, akcijų priedų, perkainojimo rezervų, rezervų) pokyčių, taip pat turi būti pateikti juos pagrindžiantys dokumentai:
A28: • perkainojimo rezervo padidėjimo atveju – ne senesnę nei 12 mėn. nepriklausomo atestuoto turto vertintojo padarytą ilgalaikio materialiojo turto vertinimo ataskaitą (patvirtintą kopiją) bei aiškinamąjį raštą, kuriame būtų nurodoma, kokia verte šis turtas balanse buvo apskaitomas iki perkainojimo rezervo suformavimo ir pagrindžiama, kad turto perkainojimas buvo atliktas teisės aktų nustatyta tvarka. • sukauptų nuostolių padengimo papildomais akcininkų piniginiais įnašais atveju – visuotinio akcininko susirinkimo protokolą (arba vienintelio akcininko sprendimą), kuriuo priimtas sprendimas padengti nuostolius papildomais akcininko(-ų) piniginiais įnašais ir šių papildomų finansinių įnašų apmokėjimą pagrindžiančius dokumentus (mokėjimo pavedimų kopijas); • akcininkų paskolų, kurios buvo suteiktos po 2019-12-31, kapitalizavimo dengiant nuostolius atveju – šių paskolų sutartis, jų išmokėjimą įmonei pagrindžiančius dokumentus (mokėjimo pavedimų kopijas) bei visuotinio akcininko susirinkimo protokolą (arba vienintelio akcininko sprendimą), kuriuo priimtas sprendimas padengti nuostolius akcininko paskolintomis lėšomis. • kitais sukauptų nuostolių padengimo atvejais – visuotinio akcininkų susirinkimo (arba vienintelio akcininko sprendimo) dokumento kopiją dėl nuostolių padengimo naudojant rezervus, kapitalizuojant iki 2019-12-31 akcininkų įmonei suteiktas paskolas, panaudojant akcijų priedus ar mažinant Paskolos gavėjo įstatinį kapitalą. • nuosavybės atstatymo dėl per 2020 m. uždirbto pelno atveju – pelno nuostolių ataskaitos ir rašytinių paaiškinimų, kaip įmonei pavyko pasiekti tokių gerų rezultatų.
B29: 43830
B30: 43921
B31: 43982
B32: 44012

Sheet Greitasis vertinimas
B1: Sutarties 5 priedas
A3: METODINIAI NURODYMAI
A5: DĖMESIO! PRIEŠ ATLIKDAMI VERTINIMĄ, PATIKRINKITE, AR ŠIS PAREIŠKĖJAS NĖRA PATEIKĘS PARAIŠKOS KITOJE FINANSŲ ĮSTAIGOJE
A7: Vertinimo data
A9: PAGRINDINĖ INFORMACIJA APIE PAREIŠKĖJĄ
A10: Pareiškėjo pavadinimas
A11: Pareiškėjo kodas
A12: Pareiškėjo įregistravimo data
A13: Anksčiausiai įregistruotos Pareiškėjo susijusios įmonės įregistravimo data (jeigu tokių turi)
A15: PAREIŠKĖJO TINKAMUMO VERTINIMAS
A16: Vidutinė mėnesinė Pareiškėjo apyvarta 2019 m. (Pagal finansines ataskaitas (toliau - FA), o verslininko atveju - pagal GPM deklaracijas. Jeigu pareiškėjas įkurtas 2020 m. neveskite)
A17: Vidutinė mėnesinė Pareiškėjo apyvarta po 2020 m. kovo 16 d., EUR (pagal Pareiškėjo deklaraciją)
A18: Pareiškėjo apyvarta dėl COVID-19 protrūkio sumažėjo ne mažiau kaip 30 proc. (nevertinama, jeigu įmonė įsteigta 2020 m.) | B18: =IF(B12>43830,"NEVERTINAMA",IF((B16-B17)/B16>=0.3,"TAIP","NE")) -> #DIV/0!
A19: Pareiškėjo darbuotojų skaičius 2020 m. kovo 1 d.
A20: Pareiškėjo darbuotojų skaičius prašymo dėl Paskolos suteikimo dieną
A21: Pareiškėjo prašymo dėl Paskolos suteikimo dieną nėra atleidęs iš darbo daugiau kaip 50 procentų darbuotojų, dirbusių 2020 m. kovo 1 d. | B21: =IF(B19=0,"TAIP",IF((B19-B20)/B19<=0.5,"TAIP","NE")) -> TAIP
A22: Ar Pareiškėjas paraiškos pateikimo metu yra pateikęs VĮ Registrų centrui 2019 m. finansinių ataskaitų rinkinį (išskyrus, kai Paskolos gavėjas yra verslininkas arba įmonė įsteigta 2020 m.)? | D22: TAIP
A23: Ar Pareiškėjas yra SVV subjektas? | D23: NE
A24: Ar Pareiškėjas veikia Lietuvos Respublikoje?
A25: Ar Pareiškėjas yra finansų įstaiga?
A26: Ar Pareiškėjas yra finansų įstaiga, vystanti finansines technologijas?
A27: Pareiškėjas tiesiogiai neveikia ginklų ir šaudmenų, tabako ir tabako gaminių bei distiliuotų alkoholinių gėrimų gamybos, perdirbimo bei prekybos, azartinių lošimų organizavimo sektoriuose
A28: Pareiškėjo yra įtrauktas į Valstybinės mokesčių inspekcijos prie Lietuvos Respublikos finansų ministerijos viešai skelbiamą patikimų mokesčių mokėtojų sąrašą, parengtą pagal Lietuvos Respublikos mokesčių administravimo įstatymo 40-1 straipsnyje nustatytus patikimų mokesčių mokėtojų kriterijus. Tikrinama VMI svetainėje: https://www.vmi.lt/cms/informacija-apie-mokesciu-moketojus
A29: Ar SVV subjektui iki Paraiškos dėl Paskolos pateikimo jau yra suteiktos paskolos ir (ar) lizingo sandoriai pagal priemones, įgyvendinamas pagal 2020 m. kovo 19 d. Europos Komisijos komunikatą dėl laikinosios valstybės pagalbos priemonių, skirtų ekonomikai remti reaguojant į dabartinį COVID-19 protrūkį, sistemos (toliau – Komunikatas)?
A30: Ar SVV subjektui jau suteiktų paskolų ir (ar) lizingo sandorių pagal priemones, įgyvendinamas pagal Komunikatą, bei Paskolos pagal priemonę „Paskolos labiausiai nuo COVID-19 nukentėjusiems verslams“ suma neviršija Komunikato 27 (d) punkte nustatytų apribojimų?
A32: AR PAREIŠKĖJAS PATIRIA FINANSINIŲ SUNKUMŲ? | B32: =IF(AND(B33="NE",B34="TAIP",B35="TAIP",B36="TAIP"),"NE","TAIP") -> TAIP
A33: Pareiškėjas patiria finansinių sunkumų pagal finansines ataskaitas | B33: =IF(MIN(B12,B13)>=42736,"NE",IF(AND('Ar patiria sunkumu'!F21="Ne",'Ar patiria sunkumu'!F22="Ne"),"NE","TAIP")) -> NE
A34: Pareiškėjui nėra iškelta nemokumo byla pagal Lietuvos Respublikos juridinių asmenų nemokumo įstatymą arba iki jo įsigaliojimo galiojusius Lietuvos Respublikos įmonių bankroto įstatymą ir Lietuvos Respublikos restruktūrizavimo įstatymą. Tikrinama: http://www.avnt.lt/veiklos-sritys/nemokumas-2/ ir https://www.registrucentras.lt/jar/p/
A35: Pareiškėjas patvirtino, kad 2019-12-31 nebuvo kitų aplinkybių dėl ko jam galėjo būti inicijuotas nemokumo procesas
A36: Pareiškėjas patvirtino, kad negavo sanavimo ar restruktūrizavimo pagalbos
A39: Ar Pareiškėjas tinkamas gauti paskolą? | B39: =IF(AND(OR(B18="TAIP",B18="NEVERTINAMA"),B21="TAIP",B22="TAIP",B23="TAIP",B24="TAIP",OR(B25="NE",AND(B25="TAIP",B26="TAIP")),B27="TAIP",B28="TAIP",B30="TAIP",B32="NE"),"TAIP","NE") -> #DIV/0!
A41: GREITASIS PASKOLOS SUMOS ĮVERTINIMAS (verslininko atveju arba kai paskolos dydis viršija 100 000 EUR visada taikomas detalusis vertinimas)
A43: Pareiškėjo 2019 m. metinė apyvarta (pagal FA)
A44: Pareiškėjo 2019 m. metinės darbo užmokesčio su mokesčiais ir priedais sąnaudos (jeigu duomenų neturite, galite nevesti)
A45: Pareiškėjo 2019 m. vidutinės mėnesinės veiklos sąnaudos (pagal FA) | C45: =IF(B45*12>B43,"12 mėnesių veiklos sąnaudos viršija metinę apyvartą. Pasitikrinkite, ar tikrai įvedėte MĖNESINES VEIKLOS SĄNAUDAS","")
A46: Paskolos administravimo mokestis
A47: SVV subjektui iki Paraiškos dėl Paskolos pateikimo jau suteiktų paskolų ir (ar) lizingo sandorių pagal priemones, įgyvendinamas pagal Komunikatą, suma (sumuojama pagal Komunikato 26a punktą ir 27 punkto d papunkčio i bei ii papunkčius)
A49: Be papildomo vertinimo paskolos gavėjui galima išduoti paskolos suma | B49: =MAX(IF(B39="TAIP",MIN(B45*2+B46,MAX(B44*2,B43*0.25)-B47,100000),0),0) -> #DIV/0!
A51: =IF(B49=100000,"Pasiekta maksimali paskola, kurią galima išduoti greituoju vertinimu. Norint išduoti didesnę paskolą, reikia pereiti prie detalioji vertinimo.","Jeigu netenkina greituoju vertinimu apskaičiuota paskolos suma, galite pereiti prie detaliojo vertinimo.") -> #DIV/0!

Sheet Detalusis vertinimas
D1: Sutarties 5 priedas
A3: DĖMESIO! DETALUSIS VERTINIMAS GALI BŪTI ATLIEKAMAS TIK ATLIKUS GREITĄJĮ IR ĮSITIKINUS, KAI ĮMONĖ GALI GAUTI PASKOLĄ!
A5: DETALUSIS PASKOLOS DYDŽIO VERTINIMAS
E6: vnt. EUR
A7: Pildoma, jeigu Pareiškėjas veiklą vykdė 2019 m. ir anksčiau | B7: Pareiškėjo 2019 metų apyvarta | E7: =IF('Greitasis vertinimas'!B12>=43466,"Netaikoma",'Greitasis vertinimas'!B43) -> 0
B8: Pareiškėjo 2019 metų sumokėto darbo užmokesčio su priedais ir mokesčiais (toliau - DU) suma | E8: =IF('Greitasis vertinimas'!B12>=43466,"Netaikoma",'Greitasis vertinimas'!B44) -> 0
A9: Pildoma, jeigu Pareiškėjas veiklą pradėjo po 2019 m. sausio 1 d. | B9: Visa Pareiškėjo apyvarta iki Prašymo suteikti šią paskolą pateikimo datos
B10: Pareiškėjo vidutinės mėnesinės DU sąnaudos 2019 m. lapkričio - 2020 m. vasario mėn.
A11: SVV subjektui iki Paraiškos dėl Paskolos pateikimo jau suteiktų paskolų ir (ar) lizingo sandorių pagal priemones, įgyvendinamas pagal Komunikatą, suma (sumuojama pagal Komunikato 26a punktą ir 27 punkto d papunkčio i bei ii papunkčius)
A12: Paskolos apribojimas pagal Komunikatą: | E12: =IF('Greitasis vertinimas'!B39="TAIP",IF('Greitasis vertinimas'!B12>=43466,MIN(1000000,MAX(E9*0.25,E10*24)-E11),MIN(1000000,MAX(E7*0.25,E8*2)-E11)),0) -> #DIV/0! | F12: =IF('Greitasis vertinimas'!B39="NE","Pareiškėjas nėra tinkamas gauti paskolą","") -> #DIV/0!
A14: LR Vyriausybės nutarimu nustatyta minimali mėnesinė alga (MMA) | E14: 607
A15: Pareiškėjo vidutinės faktiškai patirtos DU sąnaudos (su priedais ir mokesčiais) vienam darbuotojui per mėnesį, EUR: - už visus 2019 m., jei Pareiškėjas veiklą vykdė iki 2019 m. - už 2019 m. lapkričio - 2020 m. vasario mėn., jei Pareiškėjas veiklą vykdo nuo 2019 m. sausio 1 d. (kai išduodama paskolos suma neviršija 100 000 EUR, nustatoma pagal Pareiškėjo deklaraciją (paaiškinimą) apie jo patirtas arba planuojamas patirti išlaidas laikotarpiu nuo 2020-03-16 iki 2020-07-31, kitais atvejais - pagal pateiktus apskaitos dokumentus arba SoDros duomenis)
A16: Karantino metu planuojamų išlaikyti darbo vietų skaičius (įskaitant esančius prastovose), neskaitant darbuotojų, kurie bus neapmokamose atostogose
A17: Skaičius darbuotojų, kuriems bus pagal Lietuvos Respublikos užimtumo įstatymą visu COVID-19 karantino laikotarpiu bus mokamos 70 proc. subsidijos už prastovą
A18: Skaičius darbuotojų, kuriems bus pagal Lietuvos Respublikos užimtumo įstatymą visu COVID-19 karantino laikotarpiu bus mokamos 90 proc. subsidijos už prastovą
A19: Skaičius darbuotojų, kuriems bus pagal Lietuvos Respublikos užimtumo įstatymą visu COVID-19 karantino laikotarpiu bus mokamos 100 proc. subsidijos už prastovą
A21: DU nuo 2020-03-16 iki 2020-07-31 | E21: =E16*E15*4.5 -> 0
A22: DU dalis, kurią valstybė kompensuos už prastovas | E22: =(E17*MIN(E15*0.7,1.5*E14)+E18*MIN(E15*0.9,E14)+E19*MIN(E15,E14))*4.5 -> 0
A23: Galima paskolos suma darbo užmokesčio sąnaudoms finansuoti | E23: =MIN(E21-E22,E12) -> #DIV/0!
A25: Kitos tinkamos sąnaudos | B25: Apribojimai | C25: Sąnaudas pagrindžiantys dokumentai | D25: Planuojamos išlaidos laikotarpiu nuo 2020-03-16 iki 2020-07-31, EUR | E25: Papildoma paskolos suma, EUR
A26: Patalpų nuomos sąnaudos | B26: Netinkamomis sąnaudomis laikytinos: - patalpų nuomos mokesčiai, mokėtini susijusiems asmenims; - įmokos pagal paskolos, lizingo ar išperkamosios nuomos sutartis; - išlaidos, kurias Paskolos gavėjui kompensuoja valstybė pagal priemonę „Dalinis nuomos mokesčio kompensavimas labiausiai nuo COVID-19 nukentėjusioms įmonėms". | C26: Patalpų nuomos sutartys, pasirašytos iki 2020-03-16. | E26: =D26 -> 0
A27: Veiklai vykdyti skirto ilgalaikio turto nuomos sąnaudos | B27: Nuomos mokesčiai, mokėtini susijusiems asmenims, taip pat įmokos pagal paskolos, lizingo (išperkamosios nuomos) sutartis nėra laikomos tinkamomis sąnaudomis. Veiklos nuomos sąnaudos laikytinos tinkamomis. | C27: Jeigu prašoma paskolos suma iki 100 tūkst. Eur (imtinai), tai nustatoma pagal Pareiškėjo deklaraciją, jeigu didesnė - pagal dokumentus (sąskaitas, sutartis ar kitus apskaitos dokumentus), pagrindžiančius patirtas arba planuojamas patirti išlaidas. Išlaidos apskaičiuojamos pagal atitinkamo laikotarpio (2019-03-16 - 2019-07-31) išlaidas, arba pagal 2020 m. vasario mėn. išlaidas, jas dauginant iš mėnesių, kurių išlaidoms apmokėti teikiama paskola, skaičiaus, bet ne daugiau kaip iš 4,5. | E27: =D27 -> 0
A28: Komunalinių paslaugų ir ryšio sąnaudos | E28: =D28 -> 0
A29: Kitos su prekių sandėliavimu ir logistika susijusios administracinės sąnaudos* | B29: Patalpų nuomos sąnaudos nedubliuojamos. Sąnaudos priskiriamos prekių įsigijimo savikainai nėra pridedamos | E29: =D29 -> 0
A30: Draudimo ir apsaugos sąnaudos | E30: =D30 -> 0
A31: Kitos būtinosios administracinės sąnaudos*, kurios bus patirtos, siekiant išlaikyti darbo vietas bei tęsti įmonės veiklą (iki 2020-07-31) | B31: <Detalizuokite pagal išlaidų rūšį, veskite išlaidas už visą laikotarpį iki 2020-07-31> | E31: =D31 -> 0
A32: Paskolos administravimo mokesčiai | C32: Numatoma Paskolos sutartis | E32: =D32 -> 0
A34: MAKSIMALI GALIMA SUTEIKTI PASKOLOS SUMA | E34: =IF('Greitasis vertinimas'!B39="TAIP",MIN(E12,E23+SUM(E26:E32)),0) -> #DIV/0! | F34: =IF('Greitasis vertinimas'!B39="NE","Pareiškėjas nėra tinkamas gauti paskolą","") -> #DIV/0!
A36: *sąnaudos, kurių neįmanoma susieti su konkrečių parduotų prekių ar suteiktų paslaugų savikaina ir kurios susijusios su visa įmonės veikla, išskyrus finansinės, investicinės ir kitos veiklos sąnaudas, kaip jos apibrėžtos VAS. Vertinamos tik išlaidos, kurios bus patiriamos pinigais, nevertinant amortizacinių atskaitymų, atidėjinių, šalių susitarimais atidėtų mokėjimų ar kitų nepiniginių išlaidų.
